BEGIN:VCALENDAR
PRODID:NingEventWidget-v1
VERSION:2.0
METHOD:PUBLISH
BEGIN:VTIMEZONE
TZID:Pacific/Midway
X-LIC-LOCATION:Pacific/Midway
BEGIN:STANDARD
TZOFFSETFROM:-1100
TZOFFSETTO:-1100
TZNAME:SST
DTSTART:19700101T000000
END:STANDARD
END:VTIMEZONE
BEGIN:VEVENT
UID:5072275:Event:470934
DTSTAMP:20260424T112217Z
SUMMARY:Ronald Palooza Concert & Motorcycle Charity Run -Warner Robbin
 s, GA
DESCRIPTION:Ronald Palooza & Motorcycle Charity Run Hosted In Warner R
 obins,Georgia To Benefit The Ronald McDonald House Charities Of Centr
 al Georgia.\nLocal CommunityJoins Blue Duck Events, Inc. And The Ronal
 d McDonald House To Raise Money For 14Additional Rooms.\nIn Our Conti
 nuing Efforts To Help Families Of Ill Or Seriously Injured Children, W
 e Will Host The Second Annual Ronald Palooza & Motorcycle Charity Ru
 nOn Saturday, May 5, 2012 In Warner Robins, Ga. Blue Duck Events Inc.
  And The Ronald McDonald House Are Raising Money For Ronald McDonald H
 ouseCharities Of Central Georgia, A Nonprofit Dedicated To Helping Fam
 ilies Of SeriouslyInjured Or Ill Children. The Money Raised Will Help 
 Build An Addition To TheCurrent House In Macon, Ga. The Current Ronald
  McDonald House In Macon Has 13Rooms And Is Looking To Build An Additi
 onal 14 Rooms To Double The Amount OfFamilies They Can Help.\nThe Rona
 ld Palooza &Motorcycle Charity Run Will Include Several Food And Retai
 l Vendors. A 50/50,Raffle Items And A Silent Auction Will Be Held Duri
 ng The Event. The MotorcycleCharity Run Is Hosted By The US Military V
 ets Mc & The Tuskegee Airmen McChapters Of Warner Robins, Ga. Ronald P
 alooza Will Also Include Great LiveMusic From Local Bands Like 2 Finge
 r Jester, Gasoline Brothers, EZ Cleghorn AndMore As We Have Something 
 For The Whole Family, Along With Inflatables, FacePainting And Much Mo
 re.\nBlue Duck Events, Inc. Is ALocal Non-Profit Organization That Ser
 ves The State Of Georgia. BDE, Inc. HelpsPlan, New Events From Start T
 o Finish For Other Non-Profit OrganizationThroughout The State. Blue D
 uck Events Inc. Is Committed To Assisting Georgia’sCharitable Organi
 zations, Raise Awareness, And Help Better Their CommunitiesAnd The Ind
 ividuals They Serve.\nRonald McDonaldHouse Charities Of Central Georgi
 a Is Located At 1160 Forsyth Street In Macon,GA.  Our Mission Is To 
 Provide Care And Support For Families Of Seriously Ill, CriticallyInju
 red Or Medically Fragile Children Being Treated At Area Medical Facili
 ties.We Believe That Keeping Families Together During Times Of Pediatr
 ic MedicalCrisis Aids In The Healing Process.  WhenWe First Opened In
  November 2002, We Never Could Have Imagined The EnormousImpact We Wou
 ld Have On Families For Many Years To Come. When We Opened OurDoors, W
 e Opened Our Hearts As Well.\nSince 2002 RMHCCentral Georgia Has\n\nPr
 ovided Over 3,000 Families With A ‘Home     Away From Home’ Wh
 ile Their Child Was Hospitalized\nServed Families From 125 Georgia Cou
 nties,     28 States, And Eight Countries\n\nIn 2010 RMHCCentral G
 eorgia\n\nServed 365 Families And Provided Over 4,000     Nights O
 f Comfort\nServed 12,775 Meals – All Prepared By     Volunteers\
 nServed Families With An Average Length Of     Stay Of 10 Days\n\n
 \nFor more information visit https://www.southeastwheelsevents.com/eve
 nts/ronald-palooza-concert-motorcycle-charity-run-warner-robbins-ga
DTSTART;TZID=Pacific/Midway:20120505T100000
DTEND;TZID=Pacific/Midway:20120505T220000
CATEGORIES:motorcycle, charity, ride
LOCATION:Warner Robins, GA
WEBSITE:http://http//:ronaldpalooza.com
URL:http://http//:ronaldpalooza.com
CONTACT:
ORGANIZER:Blue Duck Events Inc.
ATTACH;FMTTYPE="image/jpeg":http://storage.ning.com/topology/rest/1.0/
 file/get/967604371?profile=original
ATTENDEE;ROLE=REQ-PARTICIPANT;PARTSTAT=ACCEPTED;RSVP=TRUE;CN="Michael 
 Thies":https://www.southeastwheelsevents.com/profile/MichaelThies
END:VEVENT
END:VCALENDAR
