BEGIN:VCALENDAR
PRODID:NingEventWidget-v1
VERSION:2.0
METHOD:PUBLISH
BEGIN:VTIMEZONE
TZID:Pacific/Midway
X-LIC-LOCATION:Pacific/Midway
BEGIN:STANDARD
TZOFFSETFROM:-1100
TZOFFSETTO:-1100
TZNAME:SST
DTSTART:19700101T000000
END:STANDARD
END:VTIMEZONE
BEGIN:VEVENT
UID:5072275:Event:1172453
DTSTAMP:20260422T164951Z
SUMMARY:ROSWELL MOTORING FESTIVAL - EVENT CANCELLED
DESCRIPTION:NOTE: THIS EVENT HAS BEEN CANCELLED,  new dates have not 
 yet been announced.\r\n\r\n\r\nROSWELL MOTOR FEST HAS BEEN CANCELLED, 
 due to a scheduling conflict. Alternate date has not yet been announce
 d.\r\n\n\nFor more information visit https://www.southeastwheelsevents
 .com/events/roswell-motoring-festival
DTSTART;TZID=Pacific/Midway:20191005T100000
DTEND;TZID=Pacific/Midway:20191005T140000
CATEGORIES:cancer, research
LOCATION:Roswell, GA
WEBSITE:
URL:
CONTACT:
ORGANIZER:
ATTACH;FMTTYPE="image/jpeg":https://storage.ning.com/topology/rest/1.0
 /file/get/3178643477?profile=original
ATTENDEE;ROLE=REQ-PARTICIPANT;PARTSTAT=TENTATIVE;RSVP=TRUE;CN="Jeffrey
  Rutherford":https://www.southeastwheelsevents.com/profile/JeffreyRuth
 erford866
ATTENDEE;ROLE=REQ-PARTICIPANT;PARTSTAT=TENTATIVE;RSVP=TRUE;CN="Bill mu
 sarra":https://www.southeastwheelsevents.com/profile/billmusarra
END:VEVENT
END:VCALENDAR
