BEGIN:VCALENDAR
PRODID:NingEventWidget-v1
VERSION:2.0
METHOD:PUBLISH
BEGIN:VTIMEZONE
TZID:Pacific/Midway
X-LIC-LOCATION:Pacific/Midway
BEGIN:STANDARD
TZOFFSETFROM:-1100
TZOFFSETTO:-1100
TZNAME:SST
DTSTART:19700101T000000
END:STANDARD
END:VTIMEZONE
BEGIN:VEVENT
UID:5072275:Event:1238526
DTSTAMP:20260419T082606Z
SUMMARY:Rotary Cars of the Past Car Show
DESCRIPTION:Rotary Club of Covington Cars of the Past # 29  The Rotary
  Club of Covington would like to invite you to the 29th Annual Cars of
  the Past Covington Car Show. You are invited to bring your classic ca
 r, truck, show car, Motorcycle or Golf Cart to show, or to be a sponso
 r of the car show or to attend and just enjoy the cars.  This car show
  is a high quality event that has increased in popularity each year. L
 ast year's event featured 200+ antique cars and over three thousand sp
 ectators attended. Hosted by the Rotary Club of Covington, this year's
  show will be held on Sunday, October 2, 2022 on the Historic Covingto
 n Square, and is shaping up to be spectacular community event.  Charte
 red in February 1939, the Rotary Club is a pillar of the community. Th
 e car show will help raise funds for the Covington Rotary and for the 
 many civic projects that we do in the community.  Directions: I-20 to 
 Exit 90. East on 278 to Pace Street and turn right. Pace Street runs r
 ight into the Covington Square  Phone: (770) 678-5087 (Local) Email: c
 ovingtoncarshow@rotarycovington.org Website: http://www.rotarycovingt
 on.org \nPhysical Address - Covington Square 1124 Clark Street Coving
 ton Square Covington, GA 30014  Mailing Address P.O. Box 1063 Covingto
 n, GA 30014  Spectators Free. Show car registration $20.00 in advance,
  $25.00 the day of the show\n\nFor more information visit https://www.
 southeastwheelsevents.com/events/rotary-cars-of-the-past-car-show
DTSTART;TZID=Pacific/Midway:20221002T080000
DTEND;TZID=Pacific/Midway:20221002T160000
CATEGORIES:car, show
LOCATION:Covington Square
WEBSITE:http://www.rotarycovington.org/
URL:http://www.rotarycovington.org/
CONTACT:(770) 678-5087
ORGANIZER:Tarrence Houston
ATTACH;FMTTYPE="image/jpeg":https://storage.ning.com/topology/rest/1.0
 /file/get/10810315456?profile=original
ATTENDEE;ROLE=REQ-PARTICIPANT;PARTSTAT=ACCEPTED;RSVP=TRUE;CN="John Bak
 er":https://www.southeastwheelsevents.com/profile/JohnJBaker
ATTENDEE;ROLE=REQ-PARTICIPANT;PARTSTAT=ACCEPTED;RSVP=TRUE;CN=Jeff:http
 s://www.southeastwheelsevents.com/profile/Jeff
ATTENDEE;ROLE=REQ-PARTICIPANT;PARTSTAT=ACCEPTED;RSVP=TRUE;CN="Joe Davi
 dson":https://www.southeastwheelsevents.com/profile/JoeDavidson
END:VEVENT
END:VCALENDAR
