BEGIN:VCALENDAR
PRODID:NingEventWidget-v1
VERSION:2.0
METHOD:PUBLISH
BEGIN:VTIMEZONE
TZID:Pacific/Midway
X-LIC-LOCATION:Pacific/Midway
BEGIN:STANDARD
TZOFFSETFROM:-1100
TZOFFSETTO:-1100
TZNAME:SST
DTSTART:19700101T000000
END:STANDARD
END:VTIMEZONE
BEGIN:VEVENT
UID:5072275:Event:635978
DTSTAMP:20260421T212953Z
SUMMARY:Rotary Club of Cherokee County Car, Truck and Bike Show -Canto
 n, GA
DESCRIPTION:\ncome on out and help the Rotary Club and the YMCA raise 
 funds for the youth of Cherokee County!\nWe will have a live band, foo
 d and drink, childrens activities,\nfirst 50 cars recieve a dash plaqu
 e\njudged event, $20 regristration, free for spectators,\nshow sponsor
 ships start at $100\n \n\nFor more information visit https://www.sout
 heastwheelsevents.com/events/rotary-club-of-cherokee-county-car-truck-
 and-bike-show
DTSTART;TZID=Pacific/Midway:20130413T100000
DTEND;TZID=Pacific/Midway:20130413T140000
CATEGORIES:chairty
LOCATION:Canton Ga
WEBSITE:http://www,cherokeerotary.org
URL:http://www,cherokeerotary.org
CONTACT:770-480-4179
ORGANIZER;CN="Bob Stone":https://www.southeastwheelsevents.com/profile
 /BobStone
ATTACH;FMTTYPE="image/jpeg":http://storage.ning.com/topology/rest/1.0/
 file/get/967634978?profile=original
ATTENDEE;ROLE=REQ-PARTICIPANT;PARTSTAT=ACCEPTED;RSVP=TRUE;CN="Bob Ston
 e":https://www.southeastwheelsevents.com/profile/BobStone
END:VEVENT
END:VCALENDAR
