BEGIN:VCALENDAR
PRODID:NingEventWidget-v1
VERSION:2.0
METHOD:PUBLISH
BEGIN:VTIMEZONE
TZID:Pacific/Midway
X-LIC-LOCATION:Pacific/Midway
BEGIN:STANDARD
TZOFFSETFROM:-1100
TZOFFSETTO:-1100
TZNAME:SST
DTSTART:19700101T000000
END:STANDARD
END:VTIMEZONE
BEGIN:VEVENT
UID:5072275:Event:17686
DTSTAMP:20260419T145722Z
SUMMARY:Royal Southern Plantation Bike and Car Show -Loganville, GA
DESCRIPTION:Royal Southern Plantation will be hosting a bike and car s
 how for its residents in honor of Fathers Day. This is a FREE communit
 y event. We will have food, entertainment, and will have judging as we
 ll. Registration preferred by June 4th. Come help us celebrate Father'
 s Day!\n\nFor more information visit https://www.southeastwheelsevents
 .com/events/royal-southern-plantation-bike
DTSTART;TZID=Pacific/Midway:20100612T120000
DTEND;TZID=Pacific/Midway:20100612T140000
CATEGORIES:free, community, event
LOCATION:Royal Southern Plantation Retirement and Assisted Living Comm
 unity
WEBSITE:http://www.rspliving.com
URL:http://www.rspliving.com
CONTACT:770-466-2273
ORGANIZER;CN="Maggi Grant":https://www.southeastwheelsevents.com/profi
 le/MaggiGrant
ATTACH;FMTTYPE="image/jpeg":
ATTENDEE;ROLE=REQ-PARTICIPANT;PARTSTAT=ACCEPTED;RSVP=TRUE;CN="Larry E 
 Titshaw":https://www.southeastwheelsevents.com/profile/LarryETitshaw
ATTENDEE;ROLE=REQ-PARTICIPANT;PARTSTAT=ACCEPTED;RSVP=TRUE;CN="Maggi Gr
 ant":https://www.southeastwheelsevents.com/profile/MaggiGrant
ATTENDEE;ROLE=REQ-PARTICIPANT;PARTSTAT=TENTATIVE;RSVP=TRUE;CN="Harry M
  Bartlett":https://www.southeastwheelsevents.com/profile/HarryMBartlet
 t
ATTENDEE;ROLE=REQ-PARTICIPANT;PARTSTAT=TENTATIVE;RSVP=TRUE;CN="Richard
  Scott":https://www.southeastwheelsevents.com/profile/RichardScott
ATTENDEE;ROLE=REQ-PARTICIPANT;PARTSTAT=TENTATIVE;RSVP=TRUE;CN="Michael
  Thies":https://www.southeastwheelsevents.com/profile/MichaelThies
END:VEVENT
END:VCALENDAR
