BEGIN:VCALENDAR
PRODID:NingEventWidget-v1
VERSION:2.0
METHOD:PUBLISH
BEGIN:VTIMEZONE
TZID:Pacific/Midway
X-LIC-LOCATION:Pacific/Midway
BEGIN:STANDARD
TZOFFSETFROM:-1100
TZOFFSETTO:-1100
TZNAME:SST
DTSTART:19700101T000000
END:STANDARD
END:VTIMEZONE
BEGIN:VEVENT
UID:5072275:Event:943033
DTSTAMP:20260424T063613Z
SUMMARY:Don Garlits' Annual “Mopars with Big Daddy” Show -Ocala, F
 L
DESCRIPTION:Don Garlits' Annual “Mopars with Big Daddy” Show\r\nRu
 n 4 The Sun Flyer\r\n\r\n\r\n\r\nMopars with Big Daddy Show Links:  
  Show Flyer / Registration Form\r\n\r\nONE HOUR Q&A SESSION WITH DON
  GARLITS @10:30 SATURDAY NOV. 7TH IN THE BREAKFAST ROOM @ THE SLEEP IN
 N MOTEL\r\n\r\n  \r\nFUN FIELD ( NON JUDGED SHOW PARKING) RULES\r\n\
 r\n  \r\n 2015 Mopars with Big Daddy Garlits Show and Swap Meet Inf
 ormation\r\n\r\n\r\nExpanded classes for LX and LC cars inquire at reg
 istration\r\nExpanded classes for AMC cars inquire at registration\r\n
 Host Hotels\r\n\r\n\r\n\r\n\n\nFor more information visit https://www.
 southeastwheelsevents.com/events/run-4-the-sun-all-mopar-cruise-ocala-
 fl
DTSTART;TZID=Pacific/Midway:20171110T000000
DTEND;TZID=Pacific/Midway:20171112T235900
CATEGORIES:annual, mopar, car, show
LOCATION:Florida Agriculture Center and Horse Park
WEBSITE:http://www.floridamoparassociation.com/
URL:http://www.floridamoparassociation.com/
CONTACT:Chris Street 770-401-6942
ORGANIZER:Florida Mopar Association
ATTACH;FMTTYPE="image/jpeg":http://storage.ning.com/topology/rest/1.0/
 file/get/967649444?profile=original
ATTENDEE;ROLE=REQ-PARTICIPANT;PARTSTAT=ACCEPTED;RSVP=TRUE;CN="Chuck Aa
 ron":https://www.southeastwheelsevents.com/profile/ChuckAaron
END:VEVENT
END:VCALENDAR
