BEGIN:VCALENDAR
PRODID:NingEventWidget-v1
VERSION:2.0
METHOD:PUBLISH
BEGIN:VTIMEZONE
TZID:Pacific/Midway
X-LIC-LOCATION:Pacific/Midway
BEGIN:STANDARD
TZOFFSETFROM:-1100
TZOFFSETTO:-1100
TZNAME:SST
DTSTART:19700101T000000
END:STANDARD
END:VTIMEZONE
BEGIN:VEVENT
UID:5072275:Event:82812
DTSTAMP:20260423T161936Z
SUMMARY:Run 4 the Sun (All Mopar Cruise) -Leave from Tanger Outlet, Lo
 cust Grove , end in Ocala, FL
DESCRIPTION:All mopar owners are invited to join the north georgia mop
 ar club's cruise to Don Garlits' Annual “Mopars with Big Daddy” Sh
 ow. We leave Tanger Outlet at 8 am Friday November 2.  Get the regist
 ration form at northgeorgiamoparclub.com. \n\nFor more information vi
 sit https://www.southeastwheelsevents.com/events/run-4-the-sun-all-mop
 ar-cruise
DTSTART;TZID=Pacific/Midway:20131101T080000
DTEND;TZID=Pacific/Midway:20131101T150000
CATEGORIES:cruise, to, mopar, car, show
LOCATION:Tanger Outlet to Don Garlits' Annual “Mopars with Big Daddy
 ” Show
WEBSITE:http://www.northgeorgiamoparclub.com
URL:http://www.northgeorgiamoparclub.com
CONTACT:770-401-6542
ORGANIZER:Chris Street
ATTACH;FMTTYPE="image/jpeg":
ATTENDEE;ROLE=REQ-PARTICIPANT;PARTSTAT=ACCEPTED;RSVP=TRUE;CN="jim (MOP
 AR JIM )nelson":https://www.southeastwheelsevents.com/profile/jimnelso
 n877
END:VEVENT
END:VCALENDAR
