BEGIN:VCALENDAR
PRODID:NingEventWidget-v1
VERSION:2.0
METHOD:PUBLISH
BEGIN:VTIMEZONE
TZID:Pacific/Midway
X-LIC-LOCATION:Pacific/Midway
BEGIN:STANDARD
TZOFFSETFROM:-1100
TZOFFSETTO:-1100
TZNAME:SST
DTSTART:19700101T000000
END:STANDARD
END:VTIMEZONE
BEGIN:VEVENT
UID:5072275:Event:935041
DTSTAMP:20260424T145705Z
SUMMARY:\"Run What Ya Brung\"  -Reynolds, GA
DESCRIPTION:Annual \"Run What Ya Brung\" Nostalgia Drags, Car Show & S
 wap Meet at the Silver Dollar Raceway in Reynolds, GA\r\n\r\n\n\nFor m
 ore information visit https://www.southeastwheelsevents.com/events/run
 -what-ya-brung-reynolds-ga
DTSTART;TZID=Pacific/Midway:20171021T090000
DTEND;TZID=Pacific/Midway:20171021T180000
CATEGORIES:nostalgia, drags, car, show, "&amp", swap, meet
LOCATION:Silver Dollar Raceway in Reynolds, GA
WEBSITE:http://silverdollarraceway.com/
URL:http://silverdollarraceway.com/
CONTACT:scot1@windstream.net, Scott 478-832-3540
ORGANIZER:Silver Dollar Raceway
ATTACH;FMTTYPE="image/jpeg":http://storage.ning.com/topology/rest/1.0/
 file/get/967694742?profile=original
ATTENDEE;ROLE=REQ-PARTICIPANT;PARTSTAT=ACCEPTED;RSVP=TRUE;CN="Chuck Aa
 ron":https://www.southeastwheelsevents.com/profile/ChuckAaron886
ATTENDEE;ROLE=REQ-PARTICIPANT;PARTSTAT=ACCEPTED;RSVP=TRUE;CN=Scot:http
 s://www.southeastwheelsevents.com/profile/Scot
ATTENDEE;ROLE=REQ-PARTICIPANT;PARTSTAT=ACCEPTED;RSVP=TRUE;CN="Chuck Aa
 ron":https://www.southeastwheelsevents.com/profile/ChuckAaron
END:VEVENT
END:VCALENDAR
