BEGIN:VCALENDAR
PRODID:NingEventWidget-v1
VERSION:2.0
METHOD:PUBLISH
BEGIN:VTIMEZONE
TZID:Pacific/Midway
X-LIC-LOCATION:Pacific/Midway
BEGIN:STANDARD
TZOFFSETFROM:-1100
TZOFFSETTO:-1100
TZNAME:SST
DTSTART:19700101T000000
END:STANDARD
END:VTIMEZONE
BEGIN:VEVENT
UID:5072275:Event:1275222
DTSTAMP:20260419T050208Z
SUMMARY:Rust and Chrome Cruise In Flowery Branch, GA
DESCRIPTION:Cruise In at Summit Ace Hardware\n\nFor more information v
 isit https://www.southeastwheelsevents.com/events/rust-and-chrome-crui
 se-in-flowery-branch-ga
DTSTART;TZID=Pacific/Midway:20260418T110000
DTEND;TZID=Pacific/Midway:20260418T150000
CATEGORIES:cruise, in
LOCATION:Summit Ace Hardware
WEBSITE:
URL:
CONTACT:
ORGANIZER:
ATTACH;FMTTYPE="image/jpeg":https://storage.ning.com/topology/rest/1.0
 /file/get/31133507889?profile=original
ATTENDEE;ROLE=REQ-PARTICIPANT;PARTSTAT=ACCEPTED;RSVP=TRUE;CN="Bobbie M
 enneg":https://www.southeastwheelsevents.com/profile/BobbieMenneg
END:VEVENT
END:VCALENDAR
