BEGIN:VCALENDAR
PRODID:NingEventWidget-v1
VERSION:2.0
METHOD:PUBLISH
BEGIN:VTIMEZONE
TZID:Pacific/Midway
X-LIC-LOCATION:Pacific/Midway
BEGIN:STANDARD
TZOFFSETFROM:-1100
TZOFFSETTO:-1100
TZNAME:SST
DTSTART:19700101T000000
END:STANDARD
END:VTIMEZONE
BEGIN:VEVENT
UID:5072275:Event:1235788
DTSTAMP:20260425T151733Z
SUMMARY:RWC 1ST ANNUAL CAR AND MOTORCYCLE SHOW
DESCRIPTION:Restoration worship center is holding their first annual c
 ar and motorcycle show. If You would like to enter please click the li
 nk and enter your information. We would love to see you and your cars 
 and motorcycles out there. \nhttps://flowcode.com/p/jmXpKI5E7\n\nFor 
 more information visit https://www.southeastwheelsevents.com/events/rw
 c-1st-annual-car-and-motorcycle-show
DTSTART;TZID=Pacific/Midway:20220620T110000
DTEND;TZID=Pacific/Midway:20220620T150000
CATEGORIES:car, show
LOCATION:Murrayville ga
WEBSITE:
URL:
CONTACT:
ORGANIZER;CN="Desirea grindle":https://www.southeastwheelsevents.com/p
 rofile/Desireagrindle
ATTACH;FMTTYPE="image/jpeg":https://storage.ning.com/topology/rest/1.0
 /file/get/10583802472?profile=original
ATTENDEE;ROLE=REQ-PARTICIPANT;PARTSTAT=ACCEPTED;RSVP=TRUE;CN="Desirea 
 grindle":https://www.southeastwheelsevents.com/profile/Desireagrindle
END:VEVENT
END:VCALENDAR
