BEGIN:VCALENDAR
PRODID:NingEventWidget-v1
VERSION:2.0
METHOD:PUBLISH
BEGIN:VTIMEZONE
TZID:Pacific/Midway
X-LIC-LOCATION:Pacific/Midway
BEGIN:STANDARD
TZOFFSETFROM:-1100
TZOFFSETTO:-1100
TZNAME:SST
DTSTART:19700101T000000
END:STANDARD
END:VTIMEZONE
BEGIN:VEVENT
UID:5072275:Event:874269
DTSTAMP:20260419T082832Z
SUMMARY:Sargent Baptist Church 9th Annual Car, Truck, Motorcycle, Rat 
 Rod Show, Newnan, GA.
DESCRIPTION:9th Annual show. Fun, games and food. Come and hula hoop w
 hile throwing a fresbie at a hula hoop. Gift cards for prizes.\n\nFor 
 more information visit https://www.southeastwheelsevents.com/events/sa
 rgent-baptist-church-9th-annual-car-truck-motorcycle-rat-rod
DTSTART;TZID=Pacific/Midway:20150411T080000
DTEND;TZID=Pacific/Midway:20150411T140000
CATEGORIES:"fundraiser:", purchase, of, new, church, 15, passenger, "v
 an."
LOCATION:Sargent Baptist Church
WEBSITE:http://www.sargentbaptist.com
URL:http://www.sargentbaptist.com
CONTACT:770-253-5859
ORGANIZER;CN="Buster Meadows":https://www.southeastwheelsevents.com/pr
 ofile/BusterMeadows
ATTACH;FMTTYPE="image/jpeg":http://storage.ning.com/topology/rest/1.0/
 file/get/967680233?profile=original
ATTENDEE;ROLE=REQ-PARTICIPANT;PARTSTAT=ACCEPTED;RSVP=TRUE;CN="Buster M
 eadows":https://www.southeastwheelsevents.com/profile/BusterMeadows
END:VEVENT
END:VCALENDAR
