BEGIN:VCALENDAR
PRODID:NingEventWidget-v1
VERSION:2.0
METHOD:PUBLISH
BEGIN:VTIMEZONE
TZID:Pacific/Midway
X-LIC-LOCATION:Pacific/Midway
BEGIN:STANDARD
TZOFFSETFROM:-1100
TZOFFSETTO:-1100
TZNAME:SST
DTSTART:19700101T000000
END:STANDARD
END:VTIMEZONE
BEGIN:VEVENT
UID:5072275:Event:1025434
DTSTAMP:20260423T013643Z
SUMMARY:Saturday Breakfast Meet at Swinging Bridge Restaurant
DESCRIPTION:TVR members gather for breakfast at the Swinging Bridge Re
 staurant in Paint Bank on the third Saturday of each month. Riders sta
 rt arriving around 9am and sit down to eat about 9:30am. End time may 
 change.\n\nFor more information visit https://www.southeastwheelsevent
 s.com/events/saturday-breakfast-meet-at-swinging-bridge-restaurant
DTSTART;TZID=Pacific/Midway:20161217T090000
DTEND;TZID=Pacific/Midway:20161217T110000
CATEGORIES:cars, "clubs/shows/cruises"
LOCATION:Swinging Bridge Restaurant
WEBSITE:http://twinvalleyriders.com/schedule/breakfast-locations
URL:http://twinvalleyriders.com/schedule/breakfast-locations
CONTACT:
ORGANIZER:Twin Valley Riders
ATTACH;FMTTYPE="image/jpeg":http://storage.ning.com/topology/rest/1.0/
 file/get/967721912?profile=original
ATTENDEE;ROLE=REQ-PARTICIPANT;PARTSTAT=ACCEPTED;RSVP=TRUE;CN="Chris go
 sney":https://www.southeastwheelsevents.com/profile/Chrisgosney
END:VEVENT
END:VCALENDAR
