BEGIN:VCALENDAR
PRODID:NingEventWidget-v1
VERSION:2.0
METHOD:PUBLISH
BEGIN:VTIMEZONE
TZID:Pacific/Midway
X-LIC-LOCATION:Pacific/Midway
BEGIN:STANDARD
TZOFFSETFROM:-1100
TZOFFSETTO:-1100
TZNAME:SST
DTSTART:19700101T000000
END:STANDARD
END:VTIMEZONE
BEGIN:VEVENT
UID:5072275:Event:1025616
DTSTAMP:20260422T170603Z
SUMMARY:Saturday Car Show
DESCRIPTION:Weekly Car Show will happen on every Saturday at Americana
  50's Diner from 6 to 8 pm.\n\nFor more information visit https://www.
 southeastwheelsevents.com/events/saturday-car-show
DTSTART;TZID=Pacific/Midway:20161217T180000
DTEND;TZID=Pacific/Midway:20161217T200000
CATEGORIES:cars, "clubs/shows/cruises"
LOCATION:Americana 50's Diner
WEBSITE:http://www.tampabayclassicchevyclub.com/weekly-cruise-ins.html
URL:http://www.tampabayclassicchevyclub.com/weekly-cruise-ins.html
CONTACT:
ORGANIZER:
ATTACH;FMTTYPE="image/jpeg":http://storage.ning.com/topology/rest/1.0/
 file/get/967719053?profile=original
ATTENDEE;ROLE=REQ-PARTICIPANT;PARTSTAT=ACCEPTED;RSVP=TRUE;CN="Chris go
 sney":https://www.southeastwheelsevents.com/profile/Chrisgosney
END:VEVENT
END:VCALENDAR
