BEGIN:VCALENDAR
PRODID:NingEventWidget-v1
VERSION:2.0
METHOD:PUBLISH
BEGIN:VTIMEZONE
TZID:Pacific/Midway
X-LIC-LOCATION:Pacific/Midway
BEGIN:STANDARD
TZOFFSETFROM:-1100
TZOFFSETTO:-1100
TZNAME:SST
DTSTART:19700101T000000
END:STANDARD
END:VTIMEZONE
BEGIN:VEVENT
UID:5072275:Event:199203
DTSTAMP:20260423T232635Z
SUMMARY:Saturday Night At The Races -Concord, NC
DESCRIPTION:Stanly County Night At the Races - $5 for Stanly County Re
 sidents! Get The Word Out!\n\nFor more information visit https://www.s
 outheastwheelsevents.com/events/saturday-night-at-the-races
DTSTART;TZID=Pacific/Midway:20110423T073000
DTEND;TZID=Pacific/Midway:20110423T230000
CATEGORIES:races
LOCATION:Concord Motorsports Park
WEBSITE:http://www.concordmotorsportpark.com/quarter_events.html
URL:http://www.concordmotorsportpark.com/quarter_events.html
CONTACT:704-782-4221
ORGANIZER;CN="Amber Colvin":https://www.southeastwheelsevents.com/prof
 ile/AmberColvin
ATTACH;FMTTYPE="image/jpeg":http://storage.ning.com/topology/rest/1.0/
 file/get/967591406?profile=original
ATTENDEE;ROLE=REQ-PARTICIPANT;PARTSTAT=ACCEPTED;RSVP=TRUE;CN="Amber Co
 lvin":https://www.southeastwheelsevents.com/profile/AmberColvin
END:VEVENT
END:VCALENDAR
