BEGIN:VCALENDAR
PRODID:NingEventWidget-v1
VERSION:2.0
METHOD:PUBLISH
BEGIN:VTIMEZONE
TZID:Pacific/Midway
X-LIC-LOCATION:Pacific/Midway
BEGIN:STANDARD
TZOFFSETFROM:-1100
TZOFFSETTO:-1100
TZNAME:SST
DTSTART:19700101T000000
END:STANDARD
END:VTIMEZONE
BEGIN:VEVENT
UID:5072275:Event:606927
DTSTAMP:20260420T064737Z
SUMMARY:Saturday Nights - Junction Meet- Atlanta, GA
DESCRIPTION:Saturday Nights- \"Junction Meet\"  Over 1000 parking Spot
 s in a Fully lit private Parking Lot assigned for the meet in center o
 f Atlanta, 3 Miles off Spaghetti Junction. Located right across from O
 asis   Lots has PLENTY of covered places for vendors and for vehicle 
 display. For forums/clubs/groups coming out with 10 or more cars, we c
 an hold space for y'all to park together, please let us know ahead of 
 time.   This is private lot acquired by meet organizer for the meet. 
 No acts of immaturity will be tolerated, please respect others and spa
 ce being provided. Dekalb PD will be on the premises to for security. 
   FAQ:  1.Can I burn out/drift/speed/act a fool/rev rev rev rev/Park 
 in 2 spots? A. NO, NO, NO, NO, NO, NO & extra NO just in case.  2. Is
  this Every Saturday? A. Yes 3. Can I be asked (if necessary banned) f
 rom the meet? A. Yes 4. Can I bring my friends along & get in the club
  for free? A. Yes, must be 18+, and in before guest list ends   Locati
 on: Josephine Lounge, 6325 Pechtree Industrial Blvd, Atlanta, GA (If y
 ou have trouble finding that address use this: 2421 Van Fleet Cir Dora
 ville Georgia 30360) Time- 8:00pm-12:00am Every Saturday.  Facebook ev
 ent: Saturday Junction Meet | Facebook Facebook Group Page: http://w
 ww.facebook.com/groups/Junction.Meet Facebook Fan Page: http://www.fa
 cebook.com/JunctionMee Twitte: www.twitter.com/JunctionMeet\n\n\nDire
 ctions:  From Gwinnett/Down Town: See Map Take 85S/85N Take exit 95B
  toward Chattanooga/Birmingham/285W Take exit 31B for GA-141 N/Peachtr
 ee Ind Blvd Keep right at the fork, follow signs for Tilly Mill Rd  T
 urn left onto Flowers Rd (Left at the fork)  Continue onto Flowers Rd
  Turn right onto Van Fleet Cir Meet Lot will be on your right, 2nd ent
 rance your right.  Directions from Cobb: Take Interstate 285 N Take Ex
 it 31B for GA-141/Peachtree Ind Blvd Take the exit toward Tilly Mill R
 d/Ga Perimeter College Turn right onto Tilly Mill Rd Take the 1st left
  onto Van Fleet Cir Meet Lot will be on your right, 2nd entrance your 
 right.   Hosted by Josephine Lounge: One of the chillest lounges hidde
 n away just on the edge of Atlanta. Enjoy the hospitality of our host,
  Chill Lounge to smoke hookah or take sip from a cocktail at their ful
 ly stocked bar (bring a DD) while you listen to some of the best DJ's 
 spinning on the dance floor. At the ease of your car parked just outsi
 de the door. We don't simply bring you a car meet, but something more 
 to do at the same venue.  Entry to the Lounge is free, mention \"Car M
 eet\" at the door.\n\nFor more information visit https://www.southeast
 wheelsevents.com/events/saturday-nights-junction-meet-atlanta-ga
DTSTART;TZID=Pacific/Midway:20121229T200000
DTEND;TZID=Pacific/Midway:20121230T000000
CATEGORIES:car, meet
LOCATION:Josephine Lounge
WEBSITE:http://www.facebook.com/groups/Junction.Meet
URL:http://www.facebook.com/groups/Junction.Meet
CONTACT:
ORGANIZER;CN="Sunny Malhotra":https://www.southeastwheelsevents.com/pr
 ofile/SunnyMalhotra
ATTACH;FMTTYPE="image/jpeg":http://storage.ning.com/topology/rest/1.0/
 file/get/967629995?profile=original
ATTENDEE;ROLE=REQ-PARTICIPANT;PARTSTAT=ACCEPTED;RSVP=TRUE;CN="Michael 
 Thies":https://www.southeastwheelsevents.com/profile/MichaelThies
ATTENDEE;ROLE=REQ-PARTICIPANT;PARTSTAT=ACCEPTED;RSVP=TRUE;CN="Sunny Ma
 lhotra":https://www.southeastwheelsevents.com/profile/SunnyMalhotra
END:VEVENT
END:VCALENDAR
