BEGIN:VCALENDAR
PRODID:NingEventWidget-v1
VERSION:2.0
METHOD:PUBLISH
BEGIN:VTIMEZONE
TZID:Pacific/Midway
X-LIC-LOCATION:Pacific/Midway
BEGIN:STANDARD
TZOFFSETFROM:-1100
TZOFFSETTO:-1100
TZNAME:SST
DTSTART:19700101T000000
END:STANDARD
END:VTIMEZONE
BEGIN:VEVENT
UID:5072275:Event:997196
DTSTAMP:20260422T020224Z
SUMMARY:Saturday Nite Classic Car Cruise -Kissimmee, FL
DESCRIPTION:Saturday Nite Classic Car Cruise: All Your Favorite Vintag
 e and Classic Cars Together on Trophy Row.\nCars start arriving at 1:0
 0pm! Old Town is home to one of the most well-known classic car cruise
 s, the Saturday Nite Car Cruise®. Every Saturday night, Old Town invi
 tes all 1979 and older hot rods, street rods, and antiques to join us 
 as we cruise down memory lane.\n\n\nFor more information visit https:/
 /www.southeastwheelsevents.com/events/saturday-nite-classic-car-cruise
 -kissimmee-fl-1
DTSTART;TZID=Pacific/Midway:20160806T203000
DTEND;TZID=Pacific/Midway:20160806T230000
CATEGORIES:cruise-in, festival
LOCATION:Old Town
WEBSITE:https://myoldtownusa.com/events/saturday-nite-classic-car-crui
 se/
URL:https://myoldtownusa.com/events/saturday-nite-classic-car-cruise/
CONTACT:(407) 396 4888 info@myoldtownusa.com
ORGANIZER:Old Town Kissimmee, FL
ATTACH;FMTTYPE="image/jpeg":http://storage.ning.com/topology/rest/1.0/
 file/get/967708719?profile=original
ATTENDEE;ROLE=REQ-PARTICIPANT;PARTSTAT=ACCEPTED;RSVP=TRUE;CN="Chuck Aa
 ron":https://www.southeastwheelsevents.com/profile/ChuckAaron
END:VEVENT
END:VCALENDAR
