BEGIN:VCALENDAR
PRODID:NingEventWidget-v1
VERSION:2.0
METHOD:PUBLISH
BEGIN:VTIMEZONE
TZID:Pacific/Midway
X-LIC-LOCATION:Pacific/Midway
BEGIN:STANDARD
TZOFFSETFROM:-1100
TZOFFSETTO:-1100
TZNAME:SST
DTSTART:19700101T000000
END:STANDARD
END:VTIMEZONE
BEGIN:VEVENT
UID:5072275:Event:1236986
DTSTAMP:20260423T142458Z
SUMMARY:Savannah Fall Classic Open Car, Truck, and Bike Show
DESCRIPTION:Open Car, Truck & Bike show. Top Awards in classes that in
 clude all GM's, Ford's, Mopar's, Imports, and Motorcycle's. Food, Half
  & Half, Music, Fun, Live & Silent Auctions, all benefits our local Ro
 nald McDonald House. A tour of Brookland's fine autos will be schedule
 d during the show hours.\n\nFor more information visit https://www.sou
 theastwheelsevents.com/events/savannah-fall-classic-open-car-truck-and
 -bike-show-1
DTSTART;TZID=Pacific/Midway:20221015T080000
DTEND;TZID=Pacific/Midway:20221015T150000
CATEGORIES:open, car, "&amp", truck, show, for, the, ronald, mcdonald,
  house
LOCATION:Brookland's Savannah
WEBSITE:http://www.savannahmustangclub.org
URL:http://www.savannahmustangclub.org
CONTACT:912-659-6511
ORGANIZER;CN="mark davis":https://www.southeastwheelsevents.com/profil
 e/markdavis
ATTACH;FMTTYPE="image/jpeg":
ATTENDEE;ROLE=REQ-PARTICIPANT;PARTSTAT=ACCEPTED;RSVP=TRUE;CN="mark dav
 is":https://www.southeastwheelsevents.com/profile/markdavis
END:VEVENT
END:VCALENDAR
