BEGIN:VCALENDAR
PRODID:NingEventWidget-v1
VERSION:2.0
METHOD:PUBLISH
BEGIN:VTIMEZONE
TZID:Pacific/Midway
X-LIC-LOCATION:Pacific/Midway
BEGIN:STANDARD
TZOFFSETFROM:-1100
TZOFFSETTO:-1100
TZNAME:SST
DTSTART:19700101T000000
END:STANDARD
END:VTIMEZONE
BEGIN:VEVENT
UID:5072275:Event:966719
DTSTAMP:20260422T045426Z
SUMMARY:SC Festival of Stars -Ninety Six, SC
DESCRIPTION:\r\nEnter the free Parade and Cruise-in, plus festival ho
 lds an AUTO / TRUCK CONTEST (fee) for BEST IN SHOW sponsored by Car 
 Quest, Auto Zone, Advance Auto, Napa Auto Parts, O'Reillys Auto Parts.
  Independent Judging. Contest for trophies, prizes and fun only! \n\n
 For more information visit https://www.southeastwheelsevents.com/event
 s/sc-festival-of-stars-1
DTSTART;TZID=Pacific/Midway:20210626T090000
DTEND;TZID=Pacific/Midway:20210626T140000
CATEGORIES:car, show, festival
LOCATION:Ninety Six Town Park
WEBSITE:http://www.ninetysixsc.gov/
URL:http://www.ninetysixsc.gov/
CONTACT:864-993-5243, 864-543-3396
ORGANIZER:
ATTACH;FMTTYPE="image/jpeg":http://storage.ning.com/topology/rest/1.0/
 file/get/967702223?profile=original
ATTENDEE;ROLE=REQ-PARTICIPANT;PARTSTAT=ACCEPTED;RSVP=TRUE;CN="Jennifer
  Donon":https://www.southeastwheelsevents.com/profile/JenniferDonon
ATTENDEE;ROLE=REQ-PARTICIPANT;PARTSTAT=ACCEPTED;RSVP=TRUE;CN="Chuck Aa
 ron":https://www.southeastwheelsevents.com/profile/ChuckAaron
ATTENDEE;ROLE=REQ-PARTICIPANT;PARTSTAT=ACCEPTED;RSVP=TRUE;CN="Jeffrey 
 Rutherford":https://www.southeastwheelsevents.com/profile/JeffreyRuthe
 rford866
ATTENDEE;ROLE=REQ-PARTICIPANT;PARTSTAT=ACCEPTED;RSVP=TRUE;CN="Chuck Aa
 ron":https://www.southeastwheelsevents.com/profile/ChuckAaron886
ATTENDEE;ROLE=REQ-PARTICIPANT;PARTSTAT=TENTATIVE;RSVP=TRUE;CN="Bill mu
 sarra":https://www.southeastwheelsevents.com/profile/billmusarra
END:VEVENT
END:VCALENDAR
