BEGIN:VCALENDAR
PRODID:NingEventWidget-v1
VERSION:2.0
METHOD:PUBLISH
BEGIN:VTIMEZONE
TZID:Pacific/Midway
X-LIC-LOCATION:Pacific/Midway
BEGIN:STANDARD
TZOFFSETFROM:-1100
TZOFFSETTO:-1100
TZNAME:SST
DTSTART:19700101T000000
END:STANDARD
END:VTIMEZONE
BEGIN:VEVENT
UID:5072275:Event:734567
DTSTAMP:20260419T053932Z
SUMMARY:SCCA Dragon Sportscar Hillclimb - Robbinsville, NC
DESCRIPTION:The sixth SCCA Dragon Hillclimb will be run on March 22-23
  in Robbinsville, NC\nEighty drivers will compete in competition prepa
 red cars on a 2.3 mile uphill road for cash and trophies. Cars range f
 rom vintage to production racers, formula cars and specials. Admission
  is free for spectators. Free parking and free shuttlebuses with food 
 and restrooms at safe viewing areas. Challenging road, racing, great b
 arbecue and the beauty of the Nantahala Forests... come join us! Drive
 rs will enjoy a view like this : http://youtu.be/w4-fx8acQAE\nRegistr
 ation - http://myautoevents.com/pls/mae/frmEventDetail.Show?psevent_i
 d=14458\nSupplementary Rules - http://myautoevents.com/pls/mae/frmEve
 ntDetail.ShowFlyer?psevent_id=14458\nMore information see www.dragonh
 illclimb.com\n\nFor more information visit https://www.southeastwheels
 events.com/events/scca-dragon-sportscar-hillclimb-robbinsville-nc
DTSTART;TZID=Pacific/Midway:20140322T000000
DTEND;TZID=Pacific/Midway:20140323T235900
CATEGORIES:hillclimb
LOCATION:Joyce Kilmer Memorial Park - Nantahala Forests
WEBSITE:http://www.dragonhillclimb.com/
URL:http://www.dragonhillclimb.com/
CONTACT:(864) 915-5052
ORGANIZER;CN="Ted Theodore":https://www.southeastwheelsevents.com/prof
 ile/TedTheodore
ATTACH;FMTTYPE="image/jpeg":http://storage.ning.com/topology/rest/1.0/
 file/get/967651345?profile=original
ATTENDEE;ROLE=REQ-PARTICIPANT;PARTSTAT=ACCEPTED;RSVP=TRUE;CN="Ted Theo
 dore":https://www.southeastwheelsevents.com/profile/TedTheodore
END:VEVENT
END:VCALENDAR
