BEGIN:VCALENDAR
PRODID:NingEventWidget-v1
VERSION:2.0
METHOD:PUBLISH
BEGIN:VTIMEZONE
TZID:Pacific/Midway
X-LIC-LOCATION:Pacific/Midway
BEGIN:STANDARD
TZOFFSETFROM:-1100
TZOFFSETTO:-1100
TZNAME:SST
DTSTART:19700101T000000
END:STANDARD
END:VTIMEZONE
BEGIN:VEVENT
UID:5072275:Event:1059488
DTSTAMP:20260423T093802Z
SUMMARY:SCCA Track Night In America -Dawsonville, GA
DESCRIPTION:SCCA Track Night In America (Dawsonville)\n\nWednesday, Au
 gust 16, 2017, 2:30 PM until 8:30 PM\n\nWhere:\nATLANTA MOTORSPORTS PA
 RK http://atlantamotorsportspark.com/\nSCCA TRACK NIGHT IN AMERICA\nAt
 lanta Motorsports Park and the SCCA Hosts Track Night in America! Cost
  is $150 for three 20 minute sessions on the track. Never been on a tr
 ack? Pace laps are great way to see what it's all about and best of al
 l, they're free!\n\nApril 5, 2017\nMay 17, 2017\nJune 14, 2017\nJuly 1
 9, 2017\nAugust 16, 2017\n\n\nATLANTA MOTORSPORTS PARK (AMP)\nAtlanta 
 Motorsports Park (AMP) is a road circuit designed by famed Formula One
  architects, Hermann Tilke. AMP is a 2-mile road circuit with elevatio
 n changes, technical circuit layout,Â high-speedÂ straights and two â€
 ˜signatureâ€™ corners designed to pay homage to famed European race ci
 rcuits; Belgiumâ€™s Spa-FrancochampsÂ and the iconic â€˜Carouselâ€™ fr
 om Germanyâ€™s Nurburgring. Incorporating these most famous and exciti
 ng elements of all ofÂ tracks only hints at how much fun AMP is.\nÂ \n
 ON-SITE AUTOCROSS TEST AND TUNE COURSE\nIn addition to the standard Tr
 ack Night in America event, SCCA will also be hosting an on-site autoc
 ross test and tuneÂ in the paddock area at AMP. Anyone may participate
  by purchasing 5 run tickets for $25. If you sign-up for Track Night, 
 you will receive a $5 discount and get 5 runs for $20. Additional runs
  may be purchased for $10 per 3 runs. Also, if as part of your Track N
 ight registration you sign-up for an SCCA membership, you will receive
 Â your first 5 runs forÂ FREE!!! Sign-up and registration for the auto
 cross will be available in the same area as the Track Night event chec
 k-in area. The autocross will run from 4:00PM until 8:00PM (during the
  Track Night on track hours) and is available to anyone who wishes to 
 participate.\nÂ \nTRACK SPECIFIC RULES\n\nNo one under the age of 16 w
 ill be permitted on the track at any time, including pace laps.\nSound
  limit of 98 decibels 50 feet from the track edge will be in force at 
 all times.\nM rated helmets are not permitted.\n\nÂ \n 20 Duck Thurmon
 d Road Dawsonville, GAÂ Â 30534Â   (678) 381-8527\n\n\n\n\n\n\n\nFor m
 ore information visit https://www.southeastwheelsevents.com/events/scc
 a-track-night-in-america-dawsonville-ga
DTSTART;TZID=Pacific/Midway:20170816T143000
DTEND;TZID=Pacific/Midway:20170816T203000
CATEGORIES:track, night, car, show
LOCATION:Atlanta Motorsports Park
WEBSITE:http://www.peachtreemiata.com
URL:http://www.peachtreemiata.com
CONTACT:(770) 318-0987
ORGANIZER:ATLANTA MOTORSPORTS PARK
ATTACH;FMTTYPE="image/jpeg":http://storage.ning.com/topology/rest/1.0/
 file/get/967748684?profile=original
ATTENDEE;ROLE=REQ-PARTICIPANT;PARTSTAT=ACCEPTED;RSVP=TRUE;CN="Chuck Aa
 ron":https://www.southeastwheelsevents.com/profile/ChuckAaron886
END:VEVENT
END:VCALENDAR
