BEGIN:VCALENDAR
PRODID:NingEventWidget-v1
VERSION:2.0
METHOD:PUBLISH
BEGIN:VTIMEZONE
TZID:Pacific/Midway
X-LIC-LOCATION:Pacific/Midway
BEGIN:STANDARD
TZOFFSETFROM:-1100
TZOFFSETTO:-1100
TZNAME:SST
DTSTART:19700101T000000
END:STANDARD
END:VTIMEZONE
BEGIN:VEVENT
UID:5072275:Event:573776
DTSTAMP:20260423T164501Z
SUMMARY:Scottsboro High School Band Booster BBQ Bash Car Show, Scottsb
 oro, AL
DESCRIPTION:The band is having the 4th Annual BBQ Bash and Car Show to
  raise funds for percussion equipment.  There will be trophies for th
 e top 5 in each category, Best in Show, and Most Club participation. 
  The band will be selling BBQ plates and baked goods, as well as perfo
 rming.  There will be various vendors set up too.  Hope to see you t
 here!\n \n\nFor more information visit https://www.southeastwheelseve
 nts.com/events/scottsboro-high-school-band-booster-bbq-bash-car-show-s
 cottsboro
DTSTART;TZID=Pacific/Midway:20130921T080000
DTEND;TZID=Pacific/Midway:20130921T150000
CATEGORIES:fundraiser, car, show
LOCATION:Scottsboro High School
WEBSITE:http://www.scottsboroband.com
URL:http://www.scottsboroband.com
CONTACT:256-218-2110
ORGANIZER;CN="Sherry Holderfield":https://www.southeastwheelsevents.co
 m/profile/SherryHolderfield
ATTACH;FMTTYPE="image/jpeg":
ATTENDEE;ROLE=REQ-PARTICIPANT;PARTSTAT=ACCEPTED;RSVP=TRUE;CN="Sherry H
 olderfield":https://www.southeastwheelsevents.com/profile/SherryHolder
 field
END:VEVENT
END:VCALENDAR
