BEGIN:VCALENDAR
PRODID:NingEventWidget-v1
VERSION:2.0
METHOD:PUBLISH
BEGIN:VTIMEZONE
TZID:Pacific/Midway
X-LIC-LOCATION:Pacific/Midway
BEGIN:STANDARD
TZOFFSETFROM:-1100
TZOFFSETTO:-1100
TZNAME:SST
DTSTART:19700101T000000
END:STANDARD
END:VTIMEZONE
BEGIN:VEVENT
UID:5072275:Event:931097
DTSTAMP:20260423T161244Z
SUMMARY:Annual Scarecrow Festival and Car Show -Crossville, TN
DESCRIPTION:Car show with lots of classes including best of show, peop
 les choice and even a rat rod class. Live music, food vendors, arts an
 d crafts vendors, thing for the children to do. All located in downtow
 n Crossville at the courthouse. September 19 11am till 5pm Senator Pau
 l Bailey will be our special guest judge. Come on out for lots of fun.
  Proceeds go to help Alzheimer's Tn. for more info please call 931-250
 -6493.\n\n\nFor more information visit https://www.southeastwheelseven
 ts.com/events/second-annual-scarecrow-festival-and-car-show
DTSTART;TZID=Pacific/Midway:20161001T110000
DTEND;TZID=Pacific/Midway:20161001T170000
CATEGORIES:fundraiser, car-show
LOCATION:Crossville Tennessee
WEBSITE:http://lifecarecenterofcrossville.com/events/scarecrow-festiva
 l
URL:http://lifecarecenterofcrossville.com/events/scarecrow-festival
CONTACT:931-250-6493
ORGANIZER:lynn Kerley (Life Care Centerr of Crossville)
ATTACH;FMTTYPE="image/jpeg":
ATTENDEE;ROLE=REQ-PARTICIPANT;PARTSTAT=ACCEPTED;RSVP=TRUE;CN="lynn Ker
 ley":https://www.southeastwheelsevents.com/profile/lynnKerley
END:VEVENT
END:VCALENDAR
