BEGIN:VCALENDAR
PRODID:NingEventWidget-v1
VERSION:2.0
METHOD:PUBLISH
BEGIN:VTIMEZONE
TZID:Pacific/Midway
X-LIC-LOCATION:Pacific/Midway
BEGIN:STANDARD
TZOFFSETFROM:-1100
TZOFFSETTO:-1100
TZNAME:SST
DTSTART:19700101T000000
END:STANDARD
END:VTIMEZONE
BEGIN:VEVENT
UID:5072275:Event:832764
DTSTAMP:20260423T061728Z
SUMMARY:Secret Santa Car Show of Oakwood, GA
DESCRIPTION:Car collectors rev their motors to help children have a Me
 rry Christmas at this auto show where proceeds go to buy gifts and win
 ter clothing for local kids.\n\nFor more information visit https://www
 .southeastwheelsevents.com/events/secret-santa-car-show-of-oakwood-ga-
 1
DTSTART;TZID=Pacific/Midway:20141004T090000
DTEND;TZID=Pacific/Midway:20141004T150000
CATEGORIES:car, show
LOCATION:Hayes Chrysler
WEBSITE:http://www.secretsantacarshow.com
URL:http://www.secretsantacarshow.com
CONTACT:770-534-2365
ORGANIZER:Care and Share, Inc
ATTACH;FMTTYPE="image/jpeg":http://storage.ning.com/topology/rest/1.0/
 file/get/967670674?profile=original
ATTENDEE;ROLE=REQ-PARTICIPANT;PARTSTAT=ACCEPTED;RSVP=TRUE;CN="Sheri Mi
 llwood":https://www.southeastwheelsevents.com/profile/SheriMillwood
END:VEVENT
END:VCALENDAR
