BEGIN:VCALENDAR
PRODID:NingEventWidget-v1
VERSION:2.0
METHOD:PUBLISH
BEGIN:VTIMEZONE
TZID:Pacific/Midway
X-LIC-LOCATION:Pacific/Midway
BEGIN:STANDARD
TZOFFSETFROM:-1100
TZOFFSETTO:-1100
TZNAME:SST
DTSTART:19700101T000000
END:STANDARD
END:VTIMEZONE
BEGIN:VEVENT
UID:5072275:Event:987554
DTSTAMP:20260424T113419Z
SUMMARY:Service King Collidion Repair Service Car & Truck Show
DESCRIPTION:Registration Fee $29.00, with donation for Relay For Life 
 Cancer Society. FREE Hot Dogs, Chips, and a Drink to ALL registered S
 how Car/Truck owners. 107.3 Country Music radio station broadcast live
  from11:00 AM till 1:00 PM, Dale Jr's car #88, Sp[rint Cup Car on disp
 lay ALL DAY. Awards at 2:00 PM will be Top Thirty (30) PLUS, Best Car 
 in Show, Best Truck in Show, Guests Choice, Participants Choice and Be
 st-In-Show, ALL Trophy's. Great Door Prizes to include ten (10) Die Ca
 st NASCAR Race Cars. Rain or Shine.\n\nFor more information visit http
 s://www.southeastwheelsevents.com/events/service-king-collidion-repair
 -service-car-truck-show
DTSTART;TZID=Pacific/Midway:20160618T090000
DTEND;TZID=Pacific/Midway:20160618T140000
CATEGORIES:judged, car, "&", truck, show
LOCATION:148 Old Rowlinston Road, Rock Hill, SC 29732
WEBSITE:http://rockhillcruisers.com
URL:http://rockhillcruisers.com
CONTACT:803-984-6340
ORGANIZER;CN="Hal J. Kennedy":https://www.southeastwheelsevents.com/pr
 ofile/HalJKennedy670
ATTACH;FMTTYPE="image/jpeg":
ATTENDEE;ROLE=REQ-PARTICIPANT;PARTSTAT=ACCEPTED;RSVP=TRUE;CN="Hal J. K
 ennedy":https://www.southeastwheelsevents.com/profile/HalJKennedy670
END:VEVENT
END:VCALENDAR
