BEGIN:VCALENDAR
PRODID:NingEventWidget-v1
VERSION:2.0
METHOD:PUBLISH
BEGIN:VTIMEZONE
TZID:Pacific/Midway
X-LIC-LOCATION:Pacific/Midway
BEGIN:STANDARD
TZOFFSETFROM:-1100
TZOFFSETTO:-1100
TZNAME:SST
DTSTART:19700101T000000
END:STANDARD
END:VTIMEZONE
BEGIN:VEVENT
UID:5072275:Event:493809
DTSTAMP:20260420T154729Z
SUMMARY:Shawn O'Brians Road House Car, Truck & Bike Show
DESCRIPTION:Formerly Hammers's Getaway\nRegistration 12:00 to 3:00 Awa
 rds @ 4:30\nRegistration Fee: $20.00\nAwards for\nBest in show\nShawn 
 O'Brians's Pick\nBast of:\nFord, Chevy, Mopar, Truck, BOPC, Orphan,\nR
 at Rod, Import, Work in Progess & Bike\nPlus Top 10\nDoor Prizes --50/
 50-- DJ Jeff wil be spinning the Oldies\nVendors Welcome (No food) Cal
 l first\nFor more info. call Prowler Boy Productions\n@ 770-316-1040 o
 r go to our web site\nwww.prowlerboy.com\n\nFor more information visit
  https://www.southeastwheelsevents.com/events/shawn-o-brians-road-hous
 e-car-truck-bike-show
DTSTART;TZID=Pacific/Midway:20120506T120000
DTEND;TZID=Pacific/Midway:20120506T163000
CATEGORIES:car, show
LOCATION:Shawn O' Brians Road House
WEBSITE:http://g.co/maps/j7cyr
URL:http://g.co/maps/j7cyr
CONTACT:770-316-1040
ORGANIZER:Prowler Boy Productions
ATTACH;FMTTYPE="image/jpeg":http://storage.ning.com/topology/rest/1.0/
 file/get/967614681?profile=original
ATTENDEE;ROLE=REQ-PARTICIPANT;PARTSTAT=ACCEPTED;RSVP=TRUE;CN="Jeff Rut
 herford":https://www.southeastwheelsevents.com/profile/JeffreyRutherfo
 rd
ATTENDEE;ROLE=REQ-PARTICIPANT;PARTSTAT=ACCEPTED;RSVP=TRUE;CN="Richard 
 Scott":https://www.southeastwheelsevents.com/profile/RichardScott
END:VEVENT
END:VCALENDAR
