BEGIN:VCALENDAR
PRODID:NingEventWidget-v1
VERSION:2.0
METHOD:PUBLISH
BEGIN:VTIMEZONE
TZID:Pacific/Midway
X-LIC-LOCATION:Pacific/Midway
BEGIN:STANDARD
TZOFFSETFROM:-1100
TZOFFSETTO:-1100
TZNAME:SST
DTSTART:19700101T000000
END:STANDARD
END:VTIMEZONE
BEGIN:VEVENT
UID:5072275:Event:1256641
DTSTAMP:20260422T034747Z
SUMMARY:Sheridan @ Eastside Spring Car Show
DESCRIPTION:Come join us for the first benefit car show at The Sherida
 n at Eastside. We will feature our Best of show and Top 10 Popular Cho
 ice awards along with some Special Awards. We will also have door priz
 es, great music and a cookout. Entry Fee is $20 with 100% of the proce
 eds benefiting the Alzheimer’s Association Make your plans to attend
 !\n\nFor more information visit https://www.southeastwheelsevents.com/
 events/sheridan-eastside-spring-car-show
DTSTART;TZID=Pacific/Midway:20240518T110000
DTEND;TZID=Pacific/Midway:20240518T140000
CATEGORIES:car, show
LOCATION:Sheridan @ Eastside
WEBSITE:
URL:
CONTACT:7703638703
ORGANIZER;CN="Justin Mooney":https://www.southeastwheelsevents.com/pro
 file/JustinMooney
ATTACH;FMTTYPE="image/jpeg":https://storage.ning.com/topology/rest/1.0
 /file/get/12491541898?profile=original
ATTENDEE;ROLE=REQ-PARTICIPANT;PARTSTAT=ACCEPTED;RSVP=TRUE;CN="Justin M
 ooney":https://www.southeastwheelsevents.com/profile/JustinMooney
END:VEVENT
END:VCALENDAR
