BEGIN:VCALENDAR
PRODID:NingEventWidget-v1
VERSION:2.0
METHOD:PUBLISH
BEGIN:VTIMEZONE
TZID:Pacific/Midway
X-LIC-LOCATION:Pacific/Midway
BEGIN:STANDARD
TZOFFSETFROM:-1100
TZOFFSETTO:-1100
TZNAME:SST
DTSTART:19700101T000000
END:STANDARD
END:VTIMEZONE
BEGIN:VEVENT
UID:5072275:Event:1256240
DTSTAMP:20260422T182218Z
SUMMARY:Shine and Dine Car Show at the Taste of Conyers
DESCRIPTION:Car Show, Music and live entertainment, Food trucks and Ar
 ts and Crafts.\nAll Cars and trucks are welcome.\nAwards top 25 and Be
 st of\n\nFor more information visit https://www.southeastwheelsevents.
 com/events/shine-and-dine-car-show-at-the-taste-of-conyers
DTSTART;TZID=Pacific/Midway:20240504T100000
DTEND;TZID=Pacific/Midway:20240504T160000
CATEGORIES:car, show
LOCATION:901 Railroad St, Conyers, GA 30012
WEBSITE:http://www.conyerscarshow.com
URL:http://www.conyerscarshow.com
CONTACT:404-990-4498
ORGANIZER;CN="Lanier Sims":https://www.southeastwheelsevents.com/profi
 le/AnthonyLeslie
ATTACH;FMTTYPE="image/jpeg":https://storage.ning.com/topology/rest/1.0
 /file/get/12421862288?profile=original
ATTENDEE;ROLE=REQ-PARTICIPANT;PARTSTAT=ACCEPTED;RSVP=TRUE;CN="Lanier S
 ims":https://www.southeastwheelsevents.com/profile/AnthonyLeslie
ATTENDEE;ROLE=REQ-PARTICIPANT;PARTSTAT=TENTATIVE;RSVP=TRUE;CN="John Ba
 ker":https://www.southeastwheelsevents.com/profile/JohnJBaker
END:VEVENT
END:VCALENDAR
