BEGIN:VCALENDAR
PRODID:NingEventWidget-v1
VERSION:2.0
METHOD:PUBLISH
BEGIN:VTIMEZONE
TZID:Pacific/Midway
X-LIC-LOCATION:Pacific/Midway
BEGIN:STANDARD
TZOFFSETFROM:-1100
TZOFFSETTO:-1100
TZNAME:SST
DTSTART:19700101T000000
END:STANDARD
END:VTIMEZONE
BEGIN:VEVENT
UID:5072275:Event:1182211
DTSTAMP:20260424T135928Z
SUMMARY:SHONEYS CARTERSVILLE CRUISE IN -Cartersville, GA
DESCRIPTION:All years, makes, models, Bikes and Trucks welcome!  55+ c
 hoose one of Six meals for $5.99!  Just off I-75 on GA 20 SE, on the L
 eft on top of a hill.  icicle_frost@yahoo.com with questions. My car i
 s a Green Dodge Challenger.\n\nFor more information visit https://www.
 southeastwheelsevents.com/events/shoneys-cartersville-cruise-in
DTSTART;TZID=Pacific/Midway:20191212T180000
DTEND;TZID=Pacific/Midway:20191212T200000
CATEGORIES:cruise, in
LOCATION:SHONEYS
WEBSITE:
URL:
CONTACT:
ORGANIZER:REYNE TALENTS AND GEORGIA CRUISE INS AND CAR SHOWS
ATTACH;FMTTYPE="image/jpeg":https://storage.ning.com/topology/rest/1.0
 /file/get/3755724814?profile=original
ATTENDEE;ROLE=REQ-PARTICIPANT;PARTSTAT=TENTATIVE;RSVP=TRUE;CN="Jeffrey
  Rutherford":https://www.southeastwheelsevents.com/profile/JeffreyRuth
 erford866
END:VEVENT
END:VCALENDAR
