BEGIN:VCALENDAR
PRODID:NingEventWidget-v1
VERSION:2.0
METHOD:PUBLISH
BEGIN:VTIMEZONE
TZID:Pacific/Midway
X-LIC-LOCATION:Pacific/Midway
BEGIN:STANDARD
TZOFFSETFROM:-1100
TZOFFSETTO:-1100
TZNAME:SST
DTSTART:19700101T000000
END:STANDARD
END:VTIMEZONE
BEGIN:VEVENT
UID:5072275:Event:952072
DTSTAMP:20260421T130749Z
SUMMARY:Show Off For Our Heroes -Anderson, SC
DESCRIPTION:Saturday December 12th Show Them Off Enterprises is proud 
 to present show off for our heroes Car Show. The show will go from 10a
 m-2pm. It will be held in the parking lot of Get Right Gym of Anderson
  at 110 Miracle Mile Dr, Anderson Sc 29621 there will be trophies door
  prizes and much much more. All the proceeds will go to the Wounded Wa
 rriors Project for more information go to our website atshowthemoffent
 erprises.org  you can also call 864-354-9412. The car show will also
  be broadcasted live to the internet from our website. if you plan on 
 entering a vehicle registration is $15 and 100% of the proceeds goes t
 o wounded warriors. If you have something you can bring bring and help
  out our heroes..Thank you in advance and our heroes thank you we hope
  to see you there...\n(Nate) show Coordinator\n\nFor more information 
 visit https://www.southeastwheelsevents.com/events/show-off-for-our-he
 roes
DTSTART;TZID=Pacific/Midway:20151212T100000
DTEND;TZID=Pacific/Midway:20151212T140000
CATEGORIES:non-profit, organization, fundraiser, wounded, warriors, pr
 oject
LOCATION:Get Right Gym of Anderson
WEBSITE:http://showthemoffenterprises.org
URL:http://showthemoffenterprises.org
CONTACT:8643549412
ORGANIZER;CN="Nate Maynard":https://www.southeastwheelsevents.com/prof
 ile/NateMaynard
ATTACH;FMTTYPE="image/jpeg":http://storage.ning.com/topology/rest/1.0/
 file/get/967698685?profile=original
ATTENDEE;ROLE=REQ-PARTICIPANT;PARTSTAT=ACCEPTED;RSVP=TRUE;CN="Nate May
 nard":https://www.southeastwheelsevents.com/profile/NateMaynard
END:VEVENT
END:VCALENDAR
