BEGIN:VCALENDAR
PRODID:NingEventWidget-v1
VERSION:2.0
METHOD:PUBLISH
BEGIN:VTIMEZONE
TZID:Pacific/Midway
X-LIC-LOCATION:Pacific/Midway
BEGIN:STANDARD
TZOFFSETFROM:-1100
TZOFFSETTO:-1100
TZNAME:SST
DTSTART:19700101T000000
END:STANDARD
END:VTIMEZONE
BEGIN:VEVENT
UID:5072275:Event:10207
DTSTAMP:20260420T095204Z
SUMMARY:Show & Shine Cruise In -Rock Hill, SC
DESCRIPTION:Westminister Towers\n\nFor more information visit https://
 www.southeastwheelsevents.com/events/show-shine-cruise-in-rock
DTSTART;TZID=Pacific/Midway:20130622T090000
DTEND;TZID=Pacific/Midway:20130622T140000
CATEGORIES:cruise-in
LOCATION:Westminister Towers
WEBSITE:http://www.mastersclub.com
URL:http://www.mastersclub.com
CONTACT:Eddie Craig - 803-366-4683
ORGANIZER:Eddie Craig
ATTACH;FMTTYPE="image/jpeg":
ATTENDEE;ROLE=REQ-PARTICIPANT;PARTSTAT=ACCEPTED;RSVP=TRUE;CN="Michael 
 Thies":https://www.southeastwheelsevents.com/profile/MichaelThies
END:VEVENT
END:VCALENDAR
