BEGIN:VCALENDAR
PRODID:NingEventWidget-v1
VERSION:2.0
METHOD:PUBLISH
BEGIN:VTIMEZONE
TZID:Pacific/Midway
X-LIC-LOCATION:Pacific/Midway
BEGIN:STANDARD
TZOFFSETFROM:-1100
TZOFFSETTO:-1100
TZNAME:SST
DTSTART:19700101T000000
END:STANDARD
END:VTIMEZONE
BEGIN:VEVENT
UID:5072275:Event:549451
DTSTAMP:20260420T020905Z
SUMMARY:Show & Shine Cruise-In -Helen, GA
DESCRIPTION:Pre-Helen Show & Shine for CF car show cruise-in and pre-r
 egister.\n\nFor more information visit https://www.southeastwheelseven
 ts.com/events/show-shine-cruise-in
DTSTART;TZID=Pacific/Midway:20130726T170000
DTEND;TZID=Pacific/Midway:20130726T210000
CATEGORIES:fundraiser, car-show
LOCATION:Helen, Georgia
WEBSITE:http://showandshineforcf.com
URL:http://showandshineforcf.com
CONTACT:706-296-6896
ORGANIZER;CN="Roger Kirk":https://www.southeastwheelsevents.com/profil
 e/RogerKirk
ATTACH;FMTTYPE="image/jpeg":http://storage.ning.com/topology/rest/1.0/
 file/get/967622858?profile=original
ATTENDEE;ROLE=REQ-PARTICIPANT;PARTSTAT=ACCEPTED;RSVP=TRUE;CN="Brent Wa
 lter":https://www.southeastwheelsevents.com/profile/BrentWalter
ATTENDEE;ROLE=REQ-PARTICIPANT;PARTSTAT=ACCEPTED;RSVP=TRUE;CN="Roger Ki
 rk":https://www.southeastwheelsevents.com/profile/RogerKirk
END:VEVENT
END:VCALENDAR
