BEGIN:VCALENDAR
PRODID:NingEventWidget-v1
VERSION:2.0
METHOD:PUBLISH
BEGIN:VTIMEZONE
TZID:Pacific/Midway
X-LIC-LOCATION:Pacific/Midway
BEGIN:STANDARD
TZOFFSETFROM:-1100
TZOFFSETTO:-1100
TZNAME:SST
DTSTART:19700101T000000
END:STANDARD
END:VTIMEZONE
BEGIN:VEVENT
UID:5072275:Event:38661
DTSTAMP:20260424T053436Z
SUMMARY:Show & Tell Cruise In -Fayetteville, TN
DESCRIPTION:Simply the Truth Camp Ministries would like to invite you 
 to our annual Show & Tell Cruise In. Registration is $20 and with regi
 stering you have the chance to win door prizes like: jack stands, impa
 ct wrench, engine stand, etc and the GRAND PRIZE GM PERFORMANCE CRATE 
 ENGINE 350/290HP PART#12499529 All proceeds will go to support our cam
 p and to share the Gospel with our youth not only in Lincoln County bu
 t all our surroundings areas.\n\nFor more information visit https://ww
 w.southeastwheelsevents.com/events/show-tell-cruise-in
DTSTART;TZID=Pacific/Midway:20100717T090000
DTEND;TZID=Pacific/Midway:20100717T140000
CATEGORIES:fundraiser, car, show, cruise, in
LOCATION:Lincoln County High School
WEBSITE:
URL:
CONTACT:931-993-1608
ORGANIZER:Anthony Moore
ATTACH;FMTTYPE="image/jpeg":
ATTENDEE;ROLE=REQ-PARTICIPANT;PARTSTAT=ACCEPTED;RSVP=TRUE;CN="Tim lock
 er":https://www.southeastwheelsevents.com/profile/Timlocker
ATTENDEE;ROLE=REQ-PARTICIPANT;PARTSTAT=ACCEPTED;RSVP=TRUE;CN="Ryan Tat
 e":https://www.southeastwheelsevents.com/profile/RyanTate
ATTENDEE;ROLE=REQ-PARTICIPANT;PARTSTAT=TENTATIVE;RSVP=TRUE;CN="Michael
  Thies":https://www.southeastwheelsevents.com/profile/MichaelThies
END:VEVENT
END:VCALENDAR
