BEGIN:VCALENDAR
PRODID:NingEventWidget-v1
VERSION:2.0
METHOD:PUBLISH
BEGIN:VTIMEZONE
TZID:Pacific/Midway
X-LIC-LOCATION:Pacific/Midway
BEGIN:STANDARD
TZOFFSETFROM:-1100
TZOFFSETTO:-1100
TZNAME:SST
DTSTART:19700101T000000
END:STANDARD
END:VTIMEZONE
BEGIN:VEVENT
UID:5072275:Event:566625
DTSTAMP:20260423T163428Z
SUMMARY:Show Your Wheels At Midway -Gaffney, SC
DESCRIPTION:Show Your Wheels At Midway -Gaffney, SC\n\nFor more inform
 ation visit https://www.southeastwheelsevents.com/events/show-your-whe
 els-at-midway-gaffney-sc
DTSTART;TZID=Pacific/Midway:20130921T100000
DTEND;TZID=Pacific/Midway:20130921T160000
CATEGORIES:car, show
LOCATION:Midway
WEBSITE:
URL:
CONTACT:864-489-7043 or 864-304-5072
ORGANIZER:Midway
ATTACH;FMTTYPE="image/jpeg":
ATTENDEE;ROLE=REQ-PARTICIPANT;PARTSTAT=ACCEPTED;RSVP=TRUE;CN="Jack Tho
 mas":https://www.southeastwheelsevents.com/profile/JackThomas
END:VEVENT
END:VCALENDAR
