BEGIN:VCALENDAR
PRODID:NingEventWidget-v1
VERSION:2.0
METHOD:PUBLISH
BEGIN:VTIMEZONE
TZID:Pacific/Midway
X-LIC-LOCATION:Pacific/Midway
BEGIN:STANDARD
TZOFFSETFROM:-1100
TZOFFSETTO:-1100
TZNAME:SST
DTSTART:19700101T000000
END:STANDARD
END:VTIMEZONE
BEGIN:VEVENT
UID:5072275:Event:833094
DTSTAMP:20260424T023511Z
SUMMARY:SISTERS FAMILY RESTAURANT - FREE CRUISE-IN --EVERY TUESDAY NIG
 HT---Loganville, Ga
DESCRIPTION:FREE Cruise-in--EVERY TUESDAY NIGHT--.Â  Everyone welcome-
 -bring your classic ride and receiveÂ a discountÂ on your food order.Â
   Good fun, good talk, good food.\n\nFor more information visit https:
 //www.southeastwheelsevents.com/events/sisters-family-restaurant-was-r
 ivals-hot-dogs-free-cruise-in-6550
DTSTART;TZID=Pacific/Midway:20181218T170000
DTEND;TZID=Pacific/Midway:20181218T203000
CATEGORIES:cruise-in
LOCATION:South of Loganville on Hwy 20--at corner of Hwy 20 and Rosebu
 d/Miller Bottom roads
WEBSITE:
URL:
CONTACT:770-676-7497
ORGANIZER:Eastside Cruizers
ATTACH;FMTTYPE="image/jpeg":http://storage.ning.com/topology/rest/1.0/
 file/get/967669522?profile=original
ATTENDEE;ROLE=REQ-PARTICIPANT;PARTSTAT=ACCEPTED;RSVP=TRUE;CN="ray ande
 rson":https://www.southeastwheelsevents.com/profile/rayanderson
ATTENDEE;ROLE=REQ-PARTICIPANT;PARTSTAT=ACCEPTED;RSVP=TRUE;CN="Chuck Aa
 ron":https://www.southeastwheelsevents.com/profile/ChuckAaron886
ATTENDEE;ROLE=REQ-PARTICIPANT;PARTSTAT=TENTATIVE;RSVP=TRUE;CN="Jerry J
 ones":https://www.southeastwheelsevents.com/profile/JerryJOnes
ATTENDEE;ROLE=REQ-PARTICIPANT;PARTSTAT=TENTATIVE;RSVP=TRUE;CN="John Ba
 ker":https://www.southeastwheelsevents.com/profile/JohnJBaker
ATTENDEE;ROLE=REQ-PARTICIPANT;PARTSTAT=TENTATIVE;RSVP=TRUE;CN="Terry B
 uhite":https://www.southeastwheelsevents.com/profile/TerryBuhite
ATTENDEE;ROLE=REQ-PARTICIPANT;PARTSTAT=TENTATIVE;RSVP=TRUE;CN="V. Adam
 s":https://www.southeastwheelsevents.com/profile/VAdams
ATTENDEE;ROLE=REQ-PARTICIPANT;PARTSTAT=TENTATIVE;RSVP=TRUE;CN="Jerry A
 nderson":https://www.southeastwheelsevents.com/profile/JerryAnderson40
 3
ATTENDEE;ROLE=REQ-PARTICIPANT;PARTSTAT=TENTATIVE;RSVP=TRUE;CN="Fred Bo
 tts":https://www.southeastwheelsevents.com/profile/FredBotts
END:VEVENT
END:VCALENDAR
