BEGIN:VCALENDAR
PRODID:NingEventWidget-v1
VERSION:2.0
METHOD:PUBLISH
BEGIN:VTIMEZONE
TZID:Pacific/Midway
X-LIC-LOCATION:Pacific/Midway
BEGIN:STANDARD
TZOFFSETFROM:-1100
TZOFFSETTO:-1100
TZNAME:SST
DTSTART:19700101T000000
END:STANDARD
END:VTIMEZONE
BEGIN:VEVENT
UID:5072275:Event:1188307
DTSTAMP:20260424T141918Z
SUMMARY:Skidaway Island Open Car,Truck, and Motorcycle Show
DESCRIPTION:Top 50 Awards + Sponsor's Choice\nVehicles will be judged 
 by a team of qualified judges on Cleanliness, workmanship, and overall
  condition of the vehicle. .\nMusic, fun, Food, a 50/50 drawing, A Liv
 e & Silent Auction.\n\nFor more information visit https://www.southeas
 twheelsevents.com/events/skidaway-island-open-car-amp-truck-show
DTSTART;TZID=Pacific/Midway:20200509T090000
DTEND;TZID=Pacific/Midway:20200509T150000
CATEGORIES:ronald, mcdonald, house, hospise, and, "alzsheimer's"
LOCATION:Skidaway Island / Savannah, Ga.
WEBSITE:http://www.savannahmustangclub.org
URL:http://www.savannahmustangclub.org
CONTACT:9126596511
ORGANIZER;CN="mark davis":https://www.southeastwheelsevents.com/profil
 e/markdavis
ATTACH;FMTTYPE="image/jpeg":https://storage.ning.com/topology/rest/1.0
 /file/get/3856280652?profile=original
ATTENDEE;ROLE=REQ-PARTICIPANT;PARTSTAT=ACCEPTED;RSVP=TRUE;CN="mark dav
 is":https://www.southeastwheelsevents.com/profile/markdavis
END:VEVENT
END:VCALENDAR
