BEGIN:VCALENDAR
PRODID:NingEventWidget-v1
VERSION:2.0
METHOD:PUBLISH
BEGIN:VTIMEZONE
TZID:Pacific/Midway
X-LIC-LOCATION:Pacific/Midway
BEGIN:STANDARD
TZOFFSETFROM:-1100
TZOFFSETTO:-1100
TZNAME:SST
DTSTART:19700101T000000
END:STANDARD
END:VTIMEZONE
BEGIN:VEVENT
UID:5072275:Event:736464
DTSTAMP:20260421T105110Z
SUMMARY:Skills USA GA Hot Rodders Of Tomorrow -Atlanta, GA
DESCRIPTION:\nSkills USA Georgia Competition\nHOT RODDERS OF TOMORROW\
 nENGINE CHALLENGE\n\n\nFor more information visit https://www.southeas
 twheelsevents.com/events/skills-usa-georgia-atlanta-ga
DTSTART;TZID=Pacific/Midway:20140313T000000
DTEND;TZID=Pacific/Midway:20140314T235900
CATEGORIES:youth, engine, challenge
LOCATION:Georgia International Convention Center
WEBSITE:http://www.hotroddersoftomorrow.com/
URL:http://www.hotroddersoftomorrow.com/
CONTACT:815-722-5460
ORGANIZER:Hot Rodders Of Tomorrow/ Georgia Street Rod Association
ATTACH;FMTTYPE="image/jpeg":http://storage.ning.com/topology/rest/1.0/
 file/get/967657832?profile=original
ATTENDEE;ROLE=REQ-PARTICIPANT;PARTSTAT=ACCEPTED;RSVP=TRUE;CN="Michael 
 Thies":https://www.southeastwheelsevents.com/profile/MichaelThies
END:VEVENT
END:VCALENDAR
