BEGIN:VCALENDAR
PRODID:NingEventWidget-v1
VERSION:2.0
METHOD:PUBLISH
BEGIN:VTIMEZONE
TZID:Pacific/Midway
X-LIC-LOCATION:Pacific/Midway
BEGIN:STANDARD
TZOFFSETFROM:-1100
TZOFFSETTO:-1100
TZNAME:SST
DTSTART:19700101T000000
END:STANDARD
END:VTIMEZONE
BEGIN:VEVENT
UID:5072275:Event:976220
DTSTAMP:20260420T183208Z
SUMMARY:Smoke Rise Baptist Car Show, Stone Mountain/Tucker
DESCRIPTION:\n\n\n\nNo Entry or Spectator Fees\n\nPeople's Choice Awar
 d\nPastor's Choice Award\n      Top 25 Awards\n\n\n\n\n\n\n\n\n\n
 \n\n\n\n\n\n\n\n\n\n\n\n\n\n\n\n\n\n\n\n\n\n\n\nFor more information v
 isit https://www.southeastwheelsevents.com/events/smoke-rise-baptist-c
 ar-show-stone-mountain-tucker
DTSTART;TZID=Pacific/Midway:20160604T100000
DTEND;TZID=Pacific/Midway:20160604T150000
CATEGORIES:car, show
LOCATION:Smoke Rise Baptist Church
WEBSITE:http://smokerisebaptist.org
URL:http://smokerisebaptist.org
CONTACT:770-845-7609
ORGANIZER:Joel Price
ATTACH;FMTTYPE="image/jpeg":http://storage.ning.com/topology/rest/1.0/
 file/get/967707732?profile=original
ATTENDEE;ROLE=REQ-PARTICIPANT;PARTSTAT=ACCEPTED;RSVP=TRUE;CN="Brent Wa
 lter":https://www.southeastwheelsevents.com/profile/BrentWalter
ATTENDEE;ROLE=REQ-PARTICIPANT;PARTSTAT=ACCEPTED;RSVP=TRUE;CN="Jeffrey 
 Jackson":https://www.southeastwheelsevents.com/profile/JeffreyJackson
ATTENDEE;ROLE=REQ-PARTICIPANT;PARTSTAT=ACCEPTED;RSVP=TRUE;CN="joel pri
 ce":https://www.southeastwheelsevents.com/profile/joelprice
END:VEVENT
END:VCALENDAR
