BEGIN:VCALENDAR
PRODID:NingEventWidget-v1
VERSION:2.0
METHOD:PUBLISH
BEGIN:VTIMEZONE
TZID:Pacific/Midway
X-LIC-LOCATION:Pacific/Midway
BEGIN:STANDARD
TZOFFSETFROM:-1100
TZOFFSETTO:-1100
TZNAME:SST
DTSTART:19700101T000000
END:STANDARD
END:VTIMEZONE
BEGIN:VEVENT
UID:5072275:Event:1236015
DTSTAMP:20260424T000701Z
SUMMARY:Smyrna Jonquil Lions 10th Annual Car Show
DESCRIPTION:SMYRNA JONQUIL LIONS 10TH ANNUAL CAR SHOW ~ Saturday 17 Se
 ptember 2022  - Location: 2500 South Cobb Drive, Smyrna Ga\n(Adventure
  Outdoors Parking Lot)\n- Registration 9 am to 11 am\n- Trophy awards 
 12:30 pm\n- 100% proceeds benefits local Lions Club vision impaired an
 d vision health initiatives \n- Raffles, give aways, great cars, fun\n
 - Discounted entry fee for early registrants.\nContact: Bill Bailey, w
 ebaileyjr@msn.com\n\nFor more information visit https://www.southeastw
 heelsevents.com/events/smyrna-jonquil-lions-10th-annual-car-show
DTSTART;TZID=Pacific/Midway:20220917T090000
DTEND;TZID=Pacific/Midway:20220917T130000
CATEGORIES:non, profit, fundraiser
LOCATION:2500 South Cobb Drive, Smyrna GA 30080 (Adventure Outdoors Pa
 rking Lot)
WEBSITE:
URL:
CONTACT:770-436-1952
ORGANIZER:Smyrna Jonquil Lions Club
ATTACH;FMTTYPE="image/jpeg":https://storage.ning.com/topology/rest/1.0
 /file/get/10614700058?profile=original
ATTENDEE;ROLE=REQ-PARTICIPANT;PARTSTAT=ACCEPTED;RSVP=TRUE;CN="William 
 Bailey":https://www.southeastwheelsevents.com/profile/WilliamBailey
END:VEVENT
END:VCALENDAR
