BEGIN:VCALENDAR
PRODID:NingEventWidget-v1
VERSION:2.0
METHOD:PUBLISH
BEGIN:VTIMEZONE
TZID:Pacific/Midway
X-LIC-LOCATION:Pacific/Midway
BEGIN:STANDARD
TZOFFSETFROM:-1100
TZOFFSETTO:-1100
TZNAME:SST
DTSTART:19700101T000000
END:STANDARD
END:VTIMEZONE
BEGIN:VEVENT
UID:5072275:Event:1025846
DTSTAMP:20260423T072814Z
SUMMARY:SoFASST - Friday Night Meet
DESCRIPTION:SoFASST - Friday Night Meet will happen at Ruby Tuesday, D
 avie. Starts at 6 pm and ends at 10 pm.\n\nFor more information visit 
 https://www.southeastwheelsevents.com/events/sofasst-friday-night-meet
DTSTART;TZID=Pacific/Midway:20161216T180000
DTEND;TZID=Pacific/Midway:20161216T220000
CATEGORIES:cars, "clubs/shows/cruises"
LOCATION:Ruby Tuesday
WEBSITE:https://www.facebook.com/SoFASST/info/?tab=page_info
URL:https://www.facebook.com/SoFASST/info/?tab=page_info
CONTACT:
ORGANIZER:SoFASST
ATTACH;FMTTYPE="image/jpeg":http://storage.ning.com/topology/rest/1.0/
 file/get/967719377?profile=original
ATTENDEE;ROLE=REQ-PARTICIPANT;PARTSTAT=ACCEPTED;RSVP=TRUE;CN="Chris go
 sney":https://www.southeastwheelsevents.com/profile/Chrisgosney
END:VEVENT
END:VCALENDAR
