BEGIN:VCALENDAR
PRODID:NingEventWidget-v1
VERSION:2.0
METHOD:PUBLISH
BEGIN:VTIMEZONE
TZID:Pacific/Midway
X-LIC-LOCATION:Pacific/Midway
BEGIN:STANDARD
TZOFFSETFROM:-1100
TZOFFSETTO:-1100
TZNAME:SST
DTSTART:19700101T000000
END:STANDARD
END:VTIMEZONE
BEGIN:VEVENT
UID:5072275:Event:1053642
DTSTAMP:20260423T034648Z
SUMMARY:Sonic Bike Night -Winder, GA
DESCRIPTION:\n\nFor more information visit https://www.southeastwheels
 events.com/events/sonic-bike-night-winder-ga-1
DTSTART;TZID=Pacific/Midway:20170701T170000
DTEND;TZID=Pacific/Midway:20170701T220000
CATEGORIES:bike, night
LOCATION:Sonic
WEBSITE:http://www.sonicnorthgeorgia.com/bike-nights.html
URL:http://www.sonicnorthgeorgia.com/bike-nights.html
CONTACT:Billywright@hotmail.com 770-337-5510
ORGANIZER:Sonic North Georgia
ATTACH;FMTTYPE="image/jpeg":http://storage.ning.com/topology/rest/1.0/
 file/get/967746097?profile=original
ATTENDEE;ROLE=REQ-PARTICIPANT;PARTSTAT=ACCEPTED;RSVP=TRUE;CN="Chuck Aa
 ron":https://www.southeastwheelsevents.com/profile/ChuckAaron886
END:VEVENT
END:VCALENDAR
