BEGIN:VCALENDAR
PRODID:NingEventWidget-v1
VERSION:2.0
METHOD:PUBLISH
BEGIN:VTIMEZONE
TZID:Pacific/Midway
X-LIC-LOCATION:Pacific/Midway
BEGIN:STANDARD
TZOFFSETFROM:-1100
TZOFFSETTO:-1100
TZNAME:SST
DTSTART:19700101T000000
END:STANDARD
END:VTIMEZONE
BEGIN:VEVENT
UID:5072275:Event:1199679
DTSTAMP:20260423T073921Z
SUMMARY:Sonic Cars and Coffee Cruise In - Eustis, Fl
DESCRIPTION:Come down to Sonic Drive-In, Open to all Years, Makes, and
  Models. This classic car show is organized each month on the third Sa
 turday. Facilitated by Nifty Fifty promotions.  Bring your Classic Car
 , Hot Rod, Rat Rod, Truck\n\nFor more information visit https://www.so
 utheastwheelsevents.com/events/sonic-cars-and-coffee-cruise-in-eustis-
 fl-3
DTSTART;TZID=Pacific/Midway:20201121T100000
DTEND;TZID=Pacific/Midway:20201121T140000
CATEGORIES:car, show, cruise-in, sonic, drive-in, cars, and, coffee, c
 ruise, in, antique, "cars.", vintage, classic
LOCATION:Sonic Drive In,
WEBSITE:https://www.facebook.com/niftyfiftypromo/
URL:https://www.facebook.com/niftyfiftypromo/
CONTACT:(352) 989-0991; niftyfiftypromo@gmail.com
ORGANIZER:Anthony Bua
ATTACH;FMTTYPE="image/jpeg":https://storage.ning.com/topology/rest/1.0
 /file/get/7134388657?profile=original
ATTENDEE;ROLE=REQ-PARTICIPANT;PARTSTAT=ACCEPTED;RSVP=TRUE;CN="Anthony 
 Hopkins":https://www.southeastwheelsevents.com/profile/AnthonyHopkins
END:VEVENT
END:VCALENDAR
