BEGIN:VCALENDAR
PRODID:NingEventWidget-v1
VERSION:2.0
METHOD:PUBLISH
BEGIN:VTIMEZONE
TZID:Pacific/Midway
X-LIC-LOCATION:Pacific/Midway
BEGIN:STANDARD
TZOFFSETFROM:-1100
TZOFFSETTO:-1100
TZNAME:SST
DTSTART:19700101T000000
END:STANDARD
END:VTIMEZONE
BEGIN:VEVENT
UID:5072275:Event:762422
DTSTAMP:20260423T152907Z
SUMMARY:Sonic Cruise In and Sock Hop -Sparta, TN
DESCRIPTION:Come join us for a night in the 50's. There will be an Ant
 ique Car Cruise In and music by 4 on the Floor. Come dressed for the p
 art and dance the night away under the light of Oldham's Theater in th
 e Heart of Downtown Sparta.\nMusic will start around 5 pm\nAdmission i
 s Free so come and enjoy the Cars, Costume Contest and Hula Hoop Conte
 st\nFor more information call 931-836-3248\n\nFor more information vis
 it https://www.southeastwheelsevents.com/events/sonic-cruise-in-and-so
 ck-hop
DTSTART;TZID=Pacific/Midway:20140517T170000
DTEND;TZID=Pacific/Midway:20140517T210000
CATEGORIES:concert, "&", cruise, in
LOCATION:Oldham's Theater
WEBSITE:http://www.spartatn.com
URL:http://www.spartatn.com
CONTACT:931-836-3248
ORGANIZER;CN="City of Sparta":https://www.southeastwheelsevents.com/pr
 ofile/CityofSparta
ATTACH;FMTTYPE="image/jpeg":http://storage.ning.com/topology/rest/1.0/
 file/get/967659538?profile=original
ATTENDEE;ROLE=REQ-PARTICIPANT;PARTSTAT=ACCEPTED;RSVP=TRUE;CN="City of 
 Sparta":https://www.southeastwheelsevents.com/profile/CityofSparta
END:VEVENT
END:VCALENDAR
