BEGIN:VCALENDAR
PRODID:NingEventWidget-v1
VERSION:2.0
METHOD:PUBLISH
BEGIN:VTIMEZONE
TZID:Pacific/Midway
X-LIC-LOCATION:Pacific/Midway
BEGIN:STANDARD
TZOFFSETFROM:-1100
TZOFFSETTO:-1100
TZNAME:SST
DTSTART:19700101T000000
END:STANDARD
END:VTIMEZONE
BEGIN:VEVENT
UID:5072275:Event:1181720
DTSTAMP:20260422T025321Z
SUMMARY:Sonic Cruise Night - Bella Vista, Ak
DESCRIPTION:\nCuise In the First Saturday of each month at Sonic in Be
 lla Vista! This Cruise in has been continuing for a considerable lengt
 h of time and is available to all makes and models! So tidy up your ri
 de and turn out and appreciate some astounding vehicles from everywher
 e throughout the region. See you there!\n\n\nFor more information visi
 t https://www.southeastwheelsevents.com/events/sonic-cruise-night-bell
 a-vista-ak-4
DTSTART;TZID=Pacific/Midway:20200801T163000
DTEND;TZID=Pacific/Midway:20200801T210000
CATEGORIES:car, cruze, "/", cruise, meet, show, cruise-in
LOCATION:Sonic Drive-In Bella Vista,
WEBSITE:https://www.google.com/maps/search/?api=1&amp;amp;amp;amp;amp;
 amp;query=36.4404418%2C-94.2377211
URL:https://www.google.com/maps/search/?api=1&amp;amp;amp;amp;amp;amp;
 query=36.4404418%2C-94.2377211
CONTACT:(479) 855-9367; (479) 531-5559; jekastelic_@cox.net
ORGANIZER:
ATTACH;FMTTYPE="image/jpeg":https://storage.ning.com/topology/rest/1.0
 /file/get/1158768155?profile=original
ATTENDEE;ROLE=REQ-PARTICIPANT;PARTSTAT=ACCEPTED;RSVP=TRUE;CN="Anthony 
 Hopkins":https://www.southeastwheelsevents.com/profile/AnthonyHopkins
END:VEVENT
END:VCALENDAR
