BEGIN:VCALENDAR
PRODID:NingEventWidget-v1
VERSION:2.0
METHOD:PUBLISH
BEGIN:VTIMEZONE
TZID:Pacific/Midway
X-LIC-LOCATION:Pacific/Midway
BEGIN:STANDARD
TZOFFSETFROM:-1100
TZOFFSETTO:-1100
TZNAME:SST
DTSTART:19700101T000000
END:STANDARD
END:VTIMEZONE
BEGIN:VEVENT
UID:5072275:Event:1099394
DTSTAMP:20260420T062531Z
SUMMARY:Sonora Masonic Lodge 221 F and AM 11th Annual Car, Truck, Trac
 tor and Motorcycle Show - Sonoraville, Ga
DESCRIPTION:Sonora Masonic Lodge 221 F and AM 11th Annual Car, Truck, 
 Tractor and  Motorcycle Show, Hwy 53 East.\n\nFor more information vi
 sit https://www.southeastwheelsevents.com/events/sonora-masonic-lodge-
 221-f-and-am-11th-annual-car-truck-tractor
DTSTART;TZID=Pacific/Midway:20180922T090000
DTEND;TZID=Pacific/Midway:20180922T140000
CATEGORIES:car, show, cruise, in
LOCATION:Sonora Masonic Lodge 221 F and AM,
WEBSITE:
URL:
CONTACT:(706) 625-8817 (RD 9/29)
ORGANIZER:Boyd Blalock
ATTACH;FMTTYPE="image/jpeg":http://storage.ning.com/topology/rest/1.0/
 file/get/967793579?profile=original
ATTENDEE;ROLE=REQ-PARTICIPANT;PARTSTAT=ACCEPTED;RSVP=TRUE;CN="Anthony 
 Hopkins":https://www.southeastwheelsevents.com/profile/AnthonyHopkins
END:VEVENT
END:VCALENDAR
