BEGIN:VCALENDAR
PRODID:NingEventWidget-v1
VERSION:2.0
METHOD:PUBLISH
BEGIN:VTIMEZONE
TZID:Pacific/Midway
X-LIC-LOCATION:Pacific/Midway
BEGIN:STANDARD
TZOFFSETFROM:-1100
TZOFFSETTO:-1100
TZNAME:SST
DTSTART:19700101T000000
END:STANDARD
END:VTIMEZONE
BEGIN:VEVENT
UID:5072275:Event:683161
DTSTAMP:20260423T142243Z
SUMMARY:“CHRISTmas Blessing For Kids” Car Show -Dahlonega, GA
DESCRIPTION:Attention NE Georgia!￼ Remember to mark your calendar fo
 r Saturday 11/1/25  St. Paul Church located at the Lumpkin/N Hall Coun
 ty Line on Hwy.60 across from Pony Lake Rd. is having our “Annual Ca
 r Show for KIDS”, this fundraiser goes toward “CHRISTmas Blessing 
 For Kids”  All this talk about inflation, a lot of people cannot aff
 ord gifts for the children, we are here to help our local community￼
  make it happen with your support & this Car Show!  Please share on yo
 ur N Ga. area wall!  Monetary donations can be given at the car show o
 r you can touch this link to a app that is safe & easy to donate thru;
  ￼ https://get.tithe.ly/online-giving-for-churches (Ps; if you are 
 not in my original post, touch the picture of our Little White Church 
 then touch comments…) See pictures in John Duke’s comments to help
  navigate to online donation & gets you to “Christmas Blessing Car S
 how”￼ for KIDs Fund!\n\nFor more information visit https://www.sou
 theastwheelsevents.com/events/sonshine-weekday-preschool-benefit-class
 ic-car-show
DTSTART;TZID=Pacific/Midway:20251101T100000
DTEND;TZID=Pacific/Midway:20251101T140000
CATEGORIES:fundraiser, car, show
LOCATION:St. Paul Church
WEBSITE:https://www.facebook.com/groups/456988230482/
URL:https://www.facebook.com/groups/456988230482/
CONTACT:678-617-3810
ORGANIZER:
ATTACH;FMTTYPE="image/jpeg":http://storage.ning.com/topology/rest/1.0/
 file/get/967647198?profile=original
ATTENDEE;ROLE=REQ-PARTICIPANT;PARTSTAT=ACCEPTED;RSVP=TRUE;CN="Stacy Mi
 zer":https://www.southeastwheelsevents.com/profile/StacyMizer
ATTENDEE;ROLE=REQ-PARTICIPANT;PARTSTAT=ACCEPTED;RSVP=TRUE;CN="Michael 
 Ruffalo":https://www.southeastwheelsevents.com/profile/MichaelRuffalo
END:VEVENT
END:VCALENDAR
