BEGIN:VCALENDAR
PRODID:NingEventWidget-v1
VERSION:2.0
METHOD:PUBLISH
BEGIN:VTIMEZONE
TZID:Pacific/Midway
X-LIC-LOCATION:Pacific/Midway
BEGIN:STANDARD
TZOFFSETFROM:-1100
TZOFFSETTO:-1100
TZNAME:SST
DTSTART:19700101T000000
END:STANDARD
END:VTIMEZONE
BEGIN:VEVENT
UID:5072275:Event:1026195
DTSTAMP:20260423T143206Z
SUMMARY:South Carolina International Auto Show - Day 1 of 3
DESCRIPTION:South Carolina International Auto Show will be held at TD 
 Convention Center One Exposition Avenue Greenville, SC 29607. Admissio
 n fee: Adults (13 And Over) $8, Senior Citizens (62 And Over) $5, Mili
 tary (With Any Dod Id) $5, Children (7 – 12)* $5, Children (6 And Un
 der) Free, Family Day (12 And Under)* Free. New cars, trucks and SUVs 
 will fill the TD Convention Center for the 2017 South Carolina Interna
 tional Auto Show.\n\nFor more information visit https://www.southeastw
 heelsevents.com/events/south-carolina-international-auto-show-day-1-of
 -3
DTSTART;TZID=Pacific/Midway:20170120T100000
DTEND;TZID=Pacific/Midway:20170120T210000
CATEGORIES:cars, trucks, "clubs/shows/cruises"
LOCATION:TD Convention Center
WEBSITE:http://southcarolinaautoshow.com/events-attractions/
URL:http://southcarolinaautoshow.com/events-attractions/
CONTACT:
ORGANIZER:
ATTACH;FMTTYPE="image/jpeg":http://storage.ning.com/topology/rest/1.0/
 file/get/967720996?profile=original
ATTENDEE;ROLE=REQ-PARTICIPANT;PARTSTAT=ACCEPTED;RSVP=TRUE;CN="Chris go
 sney":https://www.southeastwheelsevents.com/profile/Chrisgosney
END:VEVENT
END:VCALENDAR
