BEGIN:VCALENDAR
PRODID:NingEventWidget-v1
VERSION:2.0
METHOD:PUBLISH
BEGIN:VTIMEZONE
TZID:Pacific/Midway
X-LIC-LOCATION:Pacific/Midway
BEGIN:STANDARD
TZOFFSETFROM:-1100
TZOFFSETTO:-1100
TZNAME:SST
DTSTART:19700101T000000
END:STANDARD
END:VTIMEZONE
BEGIN:VEVENT
UID:5072275:Event:441456
DTSTAMP:20260419T122033Z
SUMMARY:South Georgia Classic Car Club / Fall Classic Car & Truck Show
 ,Valdosta,Ga
DESCRIPTION:Will be held at the Valdosta Mall,in the parking lot next 
 to Buffalo Wild Wings.There are 15 Classes for Show Vehicles this year
 ,1st,2cd,3rd in each class,3 - Best of Awards - Paint-Engine- Interior
 , Best of Show. Entry Fee is $20.00 day of show. There will be 2 - $
 50.00 cash drawings for day of show registered. Pre Registered Entry F
 ee is $15.00, must be in my hands by 10:00am Friday Morning 10-28-2011
 , There will be 1-$100:00 cash drawing for pre registered. there will 
 be 50/50 Drawing,Door Prizes, & Raffle Items. We have Event T-Shirts f
 or sale. Registration is from 8:00am - 11:00am. Judging begins at 12:0
 0 noon, Awards Presentations will be from 2:00pm - 3:00pm.For more in
 fo go to our website www.sgccc.org\n\nFor more information visit https
 ://www.southeastwheelsevents.com/events/south-georgia-classic-car-club
 -fall-classic-car-truck-show
DTSTART;TZID=Pacific/Midway:20121027T080000
DTEND;TZID=Pacific/Midway:20121027T150000
CATEGORIES:car, "&", truck, show
LOCATION:The Valdosta Mall, Next to Buffalo Wild Wings
WEBSITE:
URL:
CONTACT:229-244-5820
ORGANIZER;CN="Joseph Z Weldon":https://www.southeastwheelsevents.com/p
 rofile/JosephZWeldon
ATTACH;FMTTYPE="image/jpeg":
ATTENDEE;ROLE=REQ-PARTICIPANT;PARTSTAT=ACCEPTED;RSVP=TRUE;CN="Joseph Z
  Weldon":https://www.southeastwheelsevents.com/profile/JosephZWeldon
END:VEVENT
END:VCALENDAR
