BEGIN:VCALENDAR
PRODID:NingEventWidget-v1
VERSION:2.0
METHOD:PUBLISH
BEGIN:VTIMEZONE
TZID:Pacific/Midway
X-LIC-LOCATION:Pacific/Midway
BEGIN:STANDARD
TZOFFSETFROM:-1100
TZOFFSETTO:-1100
TZNAME:SST
DTSTART:19700101T000000
END:STANDARD
END:VTIMEZONE
BEGIN:VEVENT
UID:5072275:Event:731867
DTSTAMP:20260422T225828Z
SUMMARY:South Side G.A.S. (Go-And-Show) Fayetteville GA
DESCRIPTION:Muscle-Exotics-Custom-Classic\nAll are welcome!\n\nCome to
  the first of what we hope to be a monthly get together for great cars
  and good times on the SouthSide!\n\n\n\n\n\n\n\nFor more information 
 visit https://www.southeastwheelsevents.com/events/south-side-g-a-s-go
 -and-show-fayetteville-ga
DTSTART;TZID=Pacific/Midway:20140308T090000
DTEND;TZID=Pacific/Midway:20140308T120000
CATEGORIES:car, show
LOCATION:Togwotte Village (across from Fayette/Piedmont Hospital)
WEBSITE:http://southsidegoandshow.gmail.com
URL:http://southsidegoandshow.gmail.com
CONTACT:
ORGANIZER:Natalie and Devin Vaughan
ATTACH;FMTTYPE="image/jpeg":http://storage.ning.com/topology/rest/1.0/
 file/get/967650068?profile=original
ATTENDEE;ROLE=REQ-PARTICIPANT;PARTSTAT=ACCEPTED;RSVP=TRUE;CN="Johnny T
 rudewind":https://www.southeastwheelsevents.com/profile/Johnnytrudewin
 d
ATTENDEE;ROLE=REQ-PARTICIPANT;PARTSTAT=ACCEPTED;RSVP=TRUE;CN="Steve We
 st":https://www.southeastwheelsevents.com/profile/SteveWest
ATTENDEE;ROLE=REQ-PARTICIPANT;PARTSTAT=ACCEPTED;RSVP=TRUE;CN="Paul Cox
 ":https://www.southeastwheelsevents.com/profile/PaulCox
END:VEVENT
END:VCALENDAR
