BEGIN:VCALENDAR
PRODID:NingEventWidget-v1
VERSION:2.0
METHOD:PUBLISH
BEGIN:VTIMEZONE
TZID:Pacific/Midway
X-LIC-LOCATION:Pacific/Midway
BEGIN:STANDARD
TZOFFSETFROM:-1100
TZOFFSETTO:-1100
TZNAME:SST
DTSTART:19700101T000000
END:STANDARD
END:VTIMEZONE
BEGIN:VEVENT
UID:5072275:Event:682792
DTSTAMP:20260424T162800Z
SUMMARY:Southeast Charity Challenge @ Atlanta Dragway -Commerce. GA
DESCRIPTION:Car%20Show-01.jpg\nSoutheast Charity Challenge (SECC) - 10
 /26/13 - VETTES - VIPERS - CAMAROS - MUSTANGS - CHALLENGERSÂ This is a
  Fall show, however we want to get the word out early enough so everyo
 ne can put this day in their calendar. This is the first year for SECC
  and we hope to make it an annual event. It isÂ Saturday October 26thÂ
  atÂ Atlanta DragwayÂ (NHRA owned) in Commerce Georgia just north of A
 tlanta. Below is the link to the web site and info on the show. Basica
 lly this show was conceived to 1) Provide Southeast muscle car and spo
 rts car owners a show to attend later in the year without a long drive
  and 2) To raise proceeds for the Forsyth County Humane Society (a no 
 kill animal shelter). What makes it cool and a MUST ATTEND event is un
 limited drag racing and the fact that the show is centered around all 
 years of Corvettes, Mustangs, Camaros, Challengers, and Vipers. So exp
 ect some awesome pair ups at the lane for sure. General parking is ava
 ilable for non show theme vehicles but only theme vehicles are eligibl
 e to drag race. BUY YOUR TICKETS AT THE SITE NOW TO SAVE MONEY - EARLY
  IS QUITE A BIT LESS AND PRE-PURCHASING AFTER THOSE ARE GONE WILL STIL
 L SAVE YOU $$$.  www.secharitychallenge.org  Overview The Southeast Ch
 arity Challenge (SECC) is a gathering of American muscle cars spanning
  back as far as 1953 with the first Chevrolet Corvette. This includes 
 the Chevy Corvette and Dodge Viper in the sports car category and the 
 Chevy Camaro, Ford Mustang, & Dodge Challenger in the pony/muscle car 
 group (inspired by the Mustang in 1964). All years of these vehicles a
 re invited to park in the show car parking area.  By design and owner 
 modification, these vehicles like to go fast which is why the 1st Annu
 al Southeast Charity Challenge is being held at the historical Atlanta
  Dragway. With a full day and unlimited passes there are sure to be so
 me impressive quarter mile runs. Whether you are behind the wheel or i
 n the stands drag racing never disappoints!  Our Purpose: Serve the Lo
 cal Community & Fund Raise for Forsyth County GA Humane Society (A NO 
 KILL Shelter).  Throughout the years, many of us have gotten our car s
 how fix through cruise ins, church car shows, and vendor hosted shows.
  The SECC is the Southeast's answer to the Midwest's huge Corvette sho
 ws and the myriad of classic muscle car shows of the north. Our goal i
 s to provide a fun, family-friendly, southern-based destination for Am
 erican muscle car and sports car enthusiasts. The SECC is classics, mo
 dern muscle, and racing all wrapped up in one event.  All proceeds wil
 l benefit the Humane Society of Forsyth County, GA, a \"No-Kill\" shel
 ter.  For all questions pertaining to the 2013 Southeast Charity Chall
 enge, please contact us atÂ contactSECC@aol.com. or call Kevin at 678-
 234-5831.  - See more at:Â http://www.secharitychallenge.org/\n\nFor m
 ore information visit https://www.southeastwheelsevents.com/events/sou
 theast-charity-challenge-atlanta-dragway
DTSTART;TZID=Pacific/Midway:20131026T090000
DTEND;TZID=Pacific/Midway:20131026T180000
CATEGORIES:fund, raiser, american, "muscle/sports", car, show
LOCATION:Atlanta Dragway
WEBSITE:http://www.secharitychallenge.org
URL:http://www.secharitychallenge.org
CONTACT:678-234-5831
ORGANIZER;CN="Kevin Barton":https://www.southeastwheelsevents.com/prof
 ile/KevinBarton
ATTACH;FMTTYPE="image/jpeg":http://storage.ning.com/topology/rest/1.0/
 file/get/967642218?profile=original
ATTENDEE;ROLE=REQ-PARTICIPANT;PARTSTAT=ACCEPTED;RSVP=TRUE;CN="Kevin Ba
 rton":https://www.southeastwheelsevents.com/profile/KevinBarton
END:VEVENT
END:VCALENDAR
