BEGIN:VCALENDAR
PRODID:NingEventWidget-v1
VERSION:2.0
METHOD:PUBLISH
BEGIN:VTIMEZONE
TZID:Pacific/Midway
X-LIC-LOCATION:Pacific/Midway
BEGIN:STANDARD
TZOFFSETFROM:-1100
TZOFFSETTO:-1100
TZNAME:SST
DTSTART:19700101T000000
END:STANDARD
END:VTIMEZONE
BEGIN:VEVENT
UID:5072275:Event:1042809
DTSTAMP:20260423T124747Z
SUMMARY:Southeast Limited Late Models
DESCRIPTION:TICKET PRICES General Admission - $10 per person, Children
  under 10 free Tier Parking - $15 per car, $10 per person  RACE DAY SC
 HEDULE 3:00pm - Pit Gates Open / Trackside Parking Opens 5:00pm - Prac
 tice: All Divisions 4:00pm - Grandstand Opens 5:00pm - Tech Line-Up fo
 r LM (First car through tech is last to qualify) 6:30pm - Qualifying 7
 :30pm - Racing Begins\n\nFor more information visit https://www.southe
 astwheelsevents.com/events/southeast-limited-late-models
DTSTART;TZID=Pacific/Midway:20170610T000000
DTEND;TZID=Pacific/Midway:20170610T235900
CATEGORIES:race
LOCATION:Newport Speedway
WEBSITE:http://newportspeedway.weebly.com/
URL:http://newportspeedway.weebly.com/
CONTACT:423.623.2182
ORGANIZER:
ATTACH;FMTTYPE="image/jpeg":http://storage.ning.com/topology/rest/1.0/
 file/get/967743643?profile=original
ATTENDEE;ROLE=REQ-PARTICIPANT;PARTSTAT=ACCEPTED;RSVP=TRUE;CN="Christop
 her Gosney":https://www.southeastwheelsevents.com/profile/ChristopherG
 osney
END:VEVENT
END:VCALENDAR
